FILENAME: O4710524.NES.1165271.tif
QUADRANGLE_NAME: RICHEY
QUADRANT: NE
WEST_LONGITUDE: -105 3 45.00000
EAST_LONGITUDE: -105 0 0.00000
NORTH_LATITUDE: 47 45 0.00000
SOUTH_LATITUDE: 47 41 15.00000
PRODUCTION_DATE: 2001 9 19
RASTER_ORDER: LEFT_RIGHT/TOP_BOTTOM
BAND_ORGANIZATION: SINGLE FILE
BAND_CONTENT: BLACK&WHITE
BAND_CONTENT: UNDEFINED
BAND_CONTENT: UNDEFINED
BITS_PER_PIXEL: 8
SAMPLES_AND_LINES: 5341 7561
HORIZONTAL_DATUM: NAD83
HORIZONTAL_COORDINATE_SYSTEM: UTM
COORDINATE_ZONE: 13
HORIZONTAL_UNITS: meters
HORIZONTAL_RESOLUTION: 1.00000
SECONDARY_HORIZONTAL_DATUM: NAD27
XY_ORIGIN: 494964.00000 5288824.00000
SECONDARY_XY_ORIGIN: 495003.66700 5288603.40700
NATION: US
STATE: MT
NW_QUAD_CORNER_XY: 495315.30100 5288516.26200
NE_QUAD_CORNER_XY: 500000.00000 5288514.37100
SE_QUAD_CORNERY_XY: 500000.00000 5281568.09700
SW_QUAD_CORNER_XY: 495309.69500 5281569.98900
SECONDARY_NW_QUAD_XY: 495315.15400 5288297.44700
SECONDARY_NE_QUAD_XY: 500000.00000 5288295.55600
SECONDARY_SE_QUAD_XY: 500000.00000 5281349.30100
SECONDARY_SW_QUAD_XY: 495309.54800 5281351.19300
RMSE_XY: 2.07000
IMAGE_SOURCE: BLACK AND WHITE FILM
SOURCE_IMAGE_ID: NAPP 9108-155
SOURCE_IMAGE_DATE: 1996 8 8
SOURCE_DEM_DATE: 1999 0 0
AGENCY: WESTERN MAPPING CENTER (WMC)
PRODUCER: WOOLPERT LLP
PRODUCTION_SYSTEM: INTERGRAPH ISPM, ISIR
COMPRESSION: UNDEFINED
STANDARD_VERSION: 1996 12
METADATA_DATE: 2001 9 19
DATA_FILE_SIZE: 40388642
BYTE_COUNT: 5341
