FILENAME: O4710525.NWS.1164991.tif
QUADRANGLE_NAME: WELDON
QUADRANT: NW
WEST_LONGITUDE: -106 0 0.00000
EAST_LONGITUDE: -105 56 15.00000
NORTH_LATITUDE: 47 37 30.00000
SOUTH_LATITUDE: 47 33 45.00000
PRODUCTION_DATE: 2001 10 14
RASTER_ORDER: LEFT_RIGHT/TOP_BOTTOM
BAND_ORGANIZATION: SINGLE FILE
BAND_CONTENT: BLACK&WHITE
BAND_CONTENT: UNDEFINED
BAND_CONTENT: UNDEFINED
BITS_PER_PIXEL: 8
SAMPLES_AND_LINES: 5439 7617
HORIZONTAL_DATUM: NAD83
HORIZONTAL_COORDINATE_SYSTEM: UTM
COORDINATE_ZONE: 13
HORIZONTAL_UNITS: meters
HORIZONTAL_RESOLUTION: 1.00000
SECONDARY_HORIZONTAL_DATUM: NAD27
XY_ORIGIN: 424428.00000 5275413.00000
SECONDARY_XY_ORIGIN: 424468.60500 5275193.02400
NATION: US
STATE: MT
NW_QUAD_CORNER_XY: 424865.85600 5275106.29800
NE_QUAD_CORNER_XY: 429561.70100 5275047.63800
SE_QUAD_CORNERY_XY: 429477.77300 5268101.60000
SW_QUAD_CORNER_XY: 424776.33200 5268160.27100
SECONDARY_NW_QUAD_XY: 424863.51000 5274887.53700
SECONDARY_NE_QUAD_XY: 429559.50100 5274828.87600
SECONDARY_SE_QUAD_XY: 429475.57400 5267882.85700
SECONDARY_SW_QUAD_XY: 424773.98600 5267941.53100
RMSE_XY: 2.03000
IMAGE_SOURCE: BLACK AND WHITE FILM
SOURCE_IMAGE_ID: NAPP 9088-169
SOURCE_IMAGE_DATE: 1996 7 7
SOURCE_DEM_DATE: 1999 0 0
AGENCY: WESTERN MAPPING CENTER (WMC)
PRODUCER: WOOLPERT LLP
PRODUCTION_SYSTEM: INTERGRAPH ISPM, ISIR
COMPRESSION: UNDEFINED
STANDARD_VERSION: 1996 12
METADATA_DATE: 2001 10 14
DATA_FILE_SIZE: 41434302
BYTE_COUNT: 5439
