FILENAME: O4710526.SWS.1165005.tif
QUADRANGLE_NAME: NORTH FORK HORSE CREEK
QUADRANT: SW
WEST_LONGITUDE: -105 52 30.00000
EAST_LONGITUDE: -105 48 45.00000
NORTH_LATITUDE: 47 33 45.00000
SOUTH_LATITUDE: 47 30 0.00000
PRODUCTION_DATE: 2001 10 11
RASTER_ORDER: LEFT_RIGHT/TOP_BOTTOM
BAND_ORGANIZATION: SINGLE FILE
BAND_CONTENT: BLACK&WHITE
BAND_CONTENT: UNDEFINED
BAND_CONTENT: UNDEFINED
BITS_PER_PIXEL: 8
SAMPLES_AND_LINES: 5433 7609
HORIZONTAL_DATUM: NAD83
HORIZONTAL_COORDINATE_SYSTEM: UTM
COORDINATE_ZONE: 13
HORIZONTAL_UNITS: meters
HORIZONTAL_RESOLUTION: 1.00000
SECONDARY_HORIZONTAL_DATUM: NAD27
XY_ORIGIN: 433753.00000 5268353.00000
SECONDARY_XY_ORIGIN: 433793.60800 5268133.08300
NATION: US
STATE: MT
NW_QUAD_CORNER_XY: 434179.22100 5268046.71400
NE_QUAD_CORNER_XY: 438880.67700 5267995.61500
SE_QUAD_CORNERY_XY: 438808.01400 5261049.63000
SW_QUAD_CORNER_XY: 434100.96900 5261100.73900
SECONDARY_NW_QUAD_XY: 434177.16900 5267827.97000
SECONDARY_NE_QUAD_XY: 438878.77100 5267776.86900
SECONDARY_SE_QUAD_XY: 438806.10800 5260830.90500
SECONDARY_SW_QUAD_XY: 434098.91600 5260882.01600
RMSE_XY: 2.25000
IMAGE_SOURCE: BLACK AND WHITE FILM
SOURCE_IMAGE_ID: NAPP 11000-015
SOURCE_IMAGE_DATE: 1998 7 13
SOURCE_DEM_DATE: 1999 0 0
AGENCY: WESTERN MAPPING CENTER (WMC)
PRODUCER: WOOLPERT LLP
PRODUCTION_SYSTEM: INTERGRAPH ISPM, ISIR
COMPRESSION: UNDEFINED
STANDARD_VERSION: 1996 12
METADATA_DATE: 2001 10 11
DATA_FILE_SIZE: 41345130
BYTE_COUNT: 5433
