FILENAME: O4710533.SES.1165032.tif
QUADRANGLE_NAME: JOHNSON COULEE EAST
QUADRANT: SE
WEST_LONGITUDE: -105 56 15.00000
EAST_LONGITUDE: -105 52 30.00000
NORTH_LATITUDE: 47 26 15.00000
SOUTH_LATITUDE: 47 22 30.00000
PRODUCTION_DATE: 2001 10 8
RASTER_ORDER: LEFT_RIGHT/TOP_BOTTOM
BAND_ORGANIZATION: SINGLE FILE
BAND_CONTENT: BLACK&WHITE
BAND_CONTENT: UNDEFINED
BAND_CONTENT: UNDEFINED
BITS_PER_PIXEL: 8
SAMPLES_AND_LINES: 5450 7612
HORIZONTAL_DATUM: NAD83
HORIZONTAL_COORDINATE_SYSTEM: UTM
COORDINATE_ZONE: 13
HORIZONTAL_UNITS: meters
HORIZONTAL_RESOLUTION: 1.00000
SECONDARY_HORIZONTAL_DATUM: NAD27
XY_ORIGIN: 428878.00000 5254516.00000
SECONDARY_XY_ORIGIN: 428918.88800 5254296.37900
NATION: US
STATE: MT
NW_QUAD_CORNER_XY: 429310.17100 5254209.74500
NE_QUAD_CORNER_XY: 434022.79500 5254154.83900
SE_QUAD_CORNERY_XY: 433944.70000 5247209.01300
SW_QUAD_CORNER_XY: 429226.49700 5247263.92900
SECONDARY_NW_QUAD_XY: 429307.97300 5253991.04600
SECONDARY_NE_QUAD_XY: 434020.74300 5253936.13800
SECONDARY_SE_QUAD_XY: 433942.64800 5246990.33400
SECONDARY_SW_QUAD_XY: 429224.29900 5247045.25200
RMSE_XY: 2.15000
IMAGE_SOURCE: BLACK AND WHITE FILM
SOURCE_IMAGE_ID: NAPP 9088-087
SOURCE_IMAGE_DATE: 1996 7 7
SOURCE_DEM_DATE: 1999 0 0
AGENCY: WESTERN MAPPING CENTER (WMC)
PRODUCER: WOOLPERT LLP
PRODUCTION_SYSTEM: INTERGRAPH ISPM, ISIR
COMPRESSION: UNDEFINED
STANDARD_VERSION: 1996 12
METADATA_DATE: 2001 10 8
DATA_FILE_SIZE: 41490850
BYTE_COUNT: 5450
