FILENAME: O4710535.SWS.1165057.tif
QUADRANGLE_NAME: YOUNGQUIST MINE
QUADRANT: SW
WEST_LONGITUDE: -105 45 0.00000
EAST_LONGITUDE: -105 41 15.00000
NORTH_LATITUDE: 47 26 15.00000
SOUTH_LATITUDE: 47 22 30.00000
PRODUCTION_DATE: 2001 10 3
RASTER_ORDER: LEFT_RIGHT/TOP_BOTTOM
BAND_ORGANIZATION: SINGLE FILE
BAND_CONTENT: BLACK&WHITE
BAND_CONTENT: UNDEFINED
BAND_CONTENT: UNDEFINED
BITS_PER_PIXEL: 8
SAMPLES_AND_LINES: 5433 7602
HORIZONTAL_DATUM: NAD83
HORIZONTAL_COORDINATE_SYSTEM: UTM
COORDINATE_ZONE: 13
HORIZONTAL_UNITS: meters
HORIZONTAL_RESOLUTION: 1.00000
SECONDARY_HORIZONTAL_DATUM: NAD27
XY_ORIGIN: 443033.00000 5254363.00000
SECONDARY_XY_ORIGIN: 443073.66200 5254143.16100
NATION: US
STATE: MT
NW_QUAD_CORNER_XY: 443448.06100 5254056.38800
NE_QUAD_CORNER_XY: 448160.70300 5254012.84300
SE_QUAD_CORNERY_XY: 448099.34400 5247066.99100
SW_QUAD_CORNER_XY: 443381.12400 5247110.54400
SECONDARY_NW_QUAD_XY: 443446.30200 5253837.68400
SECONDARY_NE_QUAD_XY: 448159.09000 5253794.13700
SECONDARY_SE_QUAD_XY: 448097.73200 5246848.30800
SECONDARY_SW_QUAD_XY: 443379.36500 5246891.86300
RMSE_XY: 2.25000
IMAGE_SOURCE: BLACK AND WHITE FILM
SOURCE_IMAGE_ID: NAPP 11000-010
SOURCE_IMAGE_DATE: 1998 7 13
SOURCE_IMAGE_ID: NAPP 11000-011
SOURCE_IMAGE_DATE: 1998 7 13
SOURCE_IMAGE_ID: NAPP 11000-009
SOURCE_IMAGE_DATE: 1998 7 13
SOURCE_DEM_DATE: 1999 0 0
AGENCY: WESTERN MAPPING CENTER (WMC)
PRODUCER: WOOLPERT LLP
PRODUCTION_SYSTEM: INTERGRAPH ISPM, ISIR
COMPRESSION: UNDEFINED
STANDARD_VERSION: 1996 12
METADATA_DATE: 2001 10 24
DATA_FILE_SIZE: 41307099
BYTE_COUNT: 5433
