FILENAME: O4710541.SWS.1165037.tif
QUADRANGLE_NAME: BEAUTY CREEK
QUADRANT: SW
WEST_LONGITUDE: -106 0 0.00000
EAST_LONGITUDE: -105 56 15.00000
NORTH_LATITUDE: 47 18 45.00000
SOUTH_LATITUDE: 47 15 0.00000
PRODUCTION_DATE: 2001 10 8
RASTER_ORDER: LEFT_RIGHT/TOP_BOTTOM
BAND_ORGANIZATION: SINGLE FILE
BAND_CONTENT: BLACK&WHITE
BAND_CONTENT: UNDEFINED
BAND_CONTENT: UNDEFINED
BITS_PER_PIXEL: 8
SAMPLES_AND_LINES: 5467 7616
HORIZONTAL_DATUM: NAD83
HORIZONTAL_COORDINATE_SYSTEM: UTM
COORDINATE_ZONE: 13
HORIZONTAL_UNITS: meters
HORIZONTAL_RESOLUTION: 1.00000
SECONDARY_HORIZONTAL_DATUM: NAD27
XY_ORIGIN: 423981.00000 5240683.00000
SECONDARY_XY_ORIGIN: 424022.21600 5240463.57800
NATION: US
STATE: MT
NW_QUAD_CORNER_XY: 424419.13900 5240376.90100
NE_QUAD_CORNER_XY: 429142.90800 5240318.18600
SE_QUAD_CORNERY_XY: 429059.40400 5233372.51800
SW_QUAD_CORNER_XY: 424330.06700 5233431.24200
SECONDARY_NW_QUAD_XY: 424416.79500 5240158.25000
SECONDARY_NE_QUAD_XY: 429140.71000 5240099.53400
SECONDARY_SE_QUAD_XY: 429057.20700 5233153.89000
SECONDARY_SW_QUAD_XY: 424327.72300 5233212.61600
RMSE_XY: 2.55000
IMAGE_SOURCE: BLACK AND WHITE FILM
SOURCE_IMAGE_ID: NAPP 9088-179
SOURCE_IMAGE_DATE: 1996 7 7
SOURCE_DEM_DATE: 1999 0 0
AGENCY: WESTERN MAPPING CENTER (WMC)
PRODUCER: WOOLPERT LLP
PRODUCTION_SYSTEM: INTERGRAPH ISPM, ISIR
COMPRESSION: UNDEFINED
STANDARD_VERSION: 1996 12
METADATA_DATE: 2001 10 8
DATA_FILE_SIZE: 41642139
BYTE_COUNT: 5467
