FILENAME: O4710542.SES.1165048.tif
QUADRANGLE_NAME: BROCKWAY
QUADRANT: SE
WEST_LONGITUDE: -105 48 45.00000
EAST_LONGITUDE: -105 45 0.00000
NORTH_LATITUDE: 47 18 45.00000
SOUTH_LATITUDE: 47 15 0.00000
PRODUCTION_DATE: 2001 10 5
RASTER_ORDER: LEFT_RIGHT/TOP_BOTTOM
BAND_ORGANIZATION: SINGLE FILE
BAND_CONTENT: BLACK&WHITE
BAND_CONTENT: UNDEFINED
BAND_CONTENT: UNDEFINED
BITS_PER_PIXEL: 8
SAMPLES_AND_LINES: 5450 7605
HORIZONTAL_DATUM: NAD83
HORIZONTAL_COORDINATE_SYSTEM: UTM
COORDINATE_ZONE: 13
HORIZONTAL_UNITS: meters
HORIZONTAL_RESOLUTION: 1.00000
SECONDARY_HORIZONTAL_DATUM: NAD27
XY_ORIGIN: 438170.00000 5240519.00000
SECONDARY_XY_ORIGIN: 438210.92800 5240299.35900
NATION: US
STATE: MT
NW_QUAD_CORNER_XY: 438590.46700 5240212.12300
NE_QUAD_CORNER_XY: 443314.25500 5240164.77500
SE_QUAD_CORNERY_XY: 443247.45300 5233219.08000
SW_QUAD_CORNER_XY: 438518.09800 5233266.43700
SECONDARY_NW_QUAD_XY: 438588.56200 5239993.46700
SECONDARY_NE_QUAD_XY: 443312.49600 5239946.11700
SECONDARY_SE_QUAD_XY: 443245.69500 5233000.44700
SECONDARY_SW_QUAD_XY: 438516.19300 5233047.80600
RMSE_XY: 2.20000
IMAGE_SOURCE: BLACK AND WHITE FILM
SOURCE_IMAGE_ID: NAPP 9086-155
SOURCE_IMAGE_DATE: 1996 6 13
SOURCE_DEM_DATE: 1999 0 0
AGENCY: WESTERN MAPPING CENTER (WMC)
PRODUCER: WOOLPERT LLP
PRODUCTION_SYSTEM: INTERGRAPH ISPM, ISIR
COMPRESSION: UNDEFINED
STANDARD_VERSION: 1996 12
METADATA_DATE: 2001 10 5
DATA_FILE_SIZE: 41452700
BYTE_COUNT: 5450
