FILENAME: O4710542.NWS.1165047.tif
QUADRANGLE_NAME: BROCKWAY
QUADRANT: NW
WEST_LONGITUDE: -105 52 30.00000
EAST_LONGITUDE: -105 48 45.00000
NORTH_LATITUDE: 47 22 30.00000
SOUTH_LATITUDE: 47 18 45.00000
PRODUCTION_DATE: 2001 10 5
RASTER_ORDER: LEFT_RIGHT/TOP_BOTTOM
BAND_ORGANIZATION: SINGLE FILE
BAND_CONTENT: BLACK&WHITE
BAND_CONTENT: UNDEFINED
BAND_CONTENT: UNDEFINED
BITS_PER_PIXEL: 8
SAMPLES_AND_LINES: 5450 7608
HORIZONTAL_DATUM: NAD83
HORIZONTAL_COORDINATE_SYSTEM: UTM
COORDINATE_ZONE: 13
HORIZONTAL_UNITS: meters
HORIZONTAL_RESOLUTION: 1.00000
SECONDARY_HORIZONTAL_DATUM: NAD27
XY_ORIGIN: 433518.00000 5247515.00000
SECONDARY_XY_ORIGIN: 433558.91900 5247295.36900
NATION: US
STATE: MT
NW_QUAD_CORNER_XY: 433944.70000 5247209.01300
NE_QUAD_CORNER_XY: 438662.90900 5247157.88400
SE_QUAD_CORNERY_XY: 438590.46700 5240212.12300
SW_QUAD_CORNER_XY: 433866.68400 5240263.26100
SECONDARY_NW_QUAD_XY: 433942.64800 5246990.33400
SECONDARY_NE_QUAD_XY: 438661.00400 5246939.20500
SECONDARY_SE_QUAD_XY: 438588.56200 5239993.46700
SECONDARY_SW_QUAD_XY: 433864.63300 5240044.60600
RMSE_XY: 2.30000
IMAGE_SOURCE: BLACK AND WHITE FILM
SOURCE_IMAGE_ID: NAPP 9118-009
SOURCE_IMAGE_DATE: 1996 8 27
SOURCE_DEM_DATE: 1999 0 0
AGENCY: WESTERN MAPPING CENTER (WMC)
PRODUCER: WOOLPERT LLP
PRODUCTION_SYSTEM: INTERGRAPH ISPM, ISIR
COMPRESSION: UNDEFINED
STANDARD_VERSION: 1996 12
METADATA_DATE: 2001 11 12
DATA_FILE_SIZE: 41469050
BYTE_COUNT: 5450
