FILENAME: O4710546.NES.1165295.tif
QUADRANGLE_NAME: OLSON COULEE SOUTH
QUADRANT: NE
WEST_LONGITUDE: -105 18 45.00000
EAST_LONGITUDE: -105 15 0.00000
NORTH_LATITUDE: 47 22 30.00000
SOUTH_LATITUDE: 47 18 45.00000
PRODUCTION_DATE: 2001 9 27
RASTER_ORDER: LEFT_RIGHT/TOP_BOTTOM
BAND_ORGANIZATION: SINGLE FILE
BAND_CONTENT: BLACK&WHITE
BAND_CONTENT: UNDEFINED
BAND_CONTENT: UNDEFINED
BITS_PER_PIXEL: 8
SAMPLES_AND_LINES: 5399 7575
HORIZONTAL_DATUM: NAD83
HORIZONTAL_COORDINATE_SYSTEM: UTM
COORDINATE_ZONE: 13
HORIZONTAL_UNITS: meters
HORIZONTAL_RESOLUTION: 1.00000
SECONDARY_HORIZONTAL_DATUM: NAD27
XY_ORIGIN: 476034.00000 5247192.00000
SECONDARY_XY_ORIGIN: 476074.25100 5246971.95500
NATION: US
STATE: MT
NW_QUAD_CORNER_XY: 476408.75600 5246885.20900
NE_QUAD_CORNER_XY: 481127.00200 5246868.16700
SE_QUAD_CORNERY_XY: 481104.71400 5239922.35500
SW_QUAD_CORNER_XY: 476380.89500 5239939.40000
SECONDARY_NW_QUAD_XY: 476408.02300 5246666.52000
SECONDARY_NE_QUAD_XY: 481126.41600 5246649.47800
SECONDARY_SE_QUAD_XY: 481104.12700 5239703.69000
SECONDARY_SW_QUAD_XY: 476380.16300 5239720.73500
RMSE_XY: 2.03000
IMAGE_SOURCE: BLACK AND WHITE FILM
SOURCE_IMAGE_ID: NAPP 9116-189
SOURCE_IMAGE_DATE: 1996 8 27
SOURCE_IMAGE_ID: NAPP 9116-190
SOURCE_IMAGE_DATE: 1996 8 27
SOURCE_IMAGE_ID: NAPP 9116-188
SOURCE_IMAGE_DATE: 1996 8 27
SOURCE_IMAGE_ID: NAPP 9116-080
SOURCE_IMAGE_DATE: 1996 8 27
SOURCE_IMAGE_ID: NAPP 9116-082
SOURCE_IMAGE_DATE: 1996 8 27
SOURCE_DEM_DATE: 1999 0 0
AGENCY: WESTERN MAPPING CENTER (WMC)
PRODUCER: WOOLPERT LLP
PRODUCTION_SYSTEM: INTERGRAPH ISPM, ISIR
COMPRESSION: UNDEFINED
STANDARD_VERSION: 1996 12
METADATA_DATE: 2001 10 10
DATA_FILE_SIZE: 40902824
BYTE_COUNT: 5399
