FILENAME: O4710551.NWS.1165063.tif
QUADRANGLE_NAME: BIG SHEEP MOUNTAIN NW
QUADRANT: NW
WEST_LONGITUDE: -105 45 0.00000
EAST_LONGITUDE: -105 41 15.00000
NORTH_LATITUDE: 47 15 0.00000
SOUTH_LATITUDE: 47 11 15.00000
PRODUCTION_DATE: 2001 10 3
RASTER_ORDER: LEFT_RIGHT/TOP_BOTTOM
BAND_ORGANIZATION: SINGLE FILE
BAND_CONTENT: BLACK&WHITE
BAND_CONTENT: UNDEFINED
BAND_CONTENT: UNDEFINED
BITS_PER_PIXEL: 8
SAMPLES_AND_LINES: 5449 7602
HORIZONTAL_DATUM: NAD83
HORIZONTAL_COORDINATE_SYSTEM: UTM
COORDINATE_ZONE: 13
HORIZONTAL_UNITS: meters
HORIZONTAL_RESOLUTION: 1.00000
SECONDARY_HORIZONTAL_DATUM: NAD27
XY_ORIGIN: 442833.00000 5233526.00000
SECONDARY_XY_ORIGIN: 442873.91700 5233306.34900
NATION: US
STATE: MT
NW_QUAD_CORNER_XY: 443247.45300 5233219.08000
NE_QUAD_CORNER_XY: 447976.81400 5233175.51200
SE_QUAD_CORNERY_XY: 447915.64200 5226229.88500
SW_QUAD_CORNER_XY: 443180.72000 5226273.46100
SECONDARY_NW_QUAD_XY: 443245.69500 5233000.44700
SECONDARY_NE_QUAD_XY: 447975.20200 5232956.87800
SECONDARY_SE_QUAD_XY: 447914.03100 5226011.27600
SECONDARY_SW_QUAD_XY: 443178.96200 5226054.85300
RMSE_XY: 2.40000
IMAGE_SOURCE: BLACK AND WHITE FILM
SOURCE_IMAGE_ID: NAPP 10721-149
SOURCE_IMAGE_DATE: 1997 8 25
SOURCE_DEM_DATE: 1999 0 0
AGENCY: WESTERN MAPPING CENTER (WMC)
PRODUCER: WOOLPERT LLP
PRODUCTION_SYSTEM: INTERGRAPH ISPM, ISIR
COMPRESSION: UNDEFINED
STANDARD_VERSION: 1996 12
METADATA_DATE: 2001 10 3
DATA_FILE_SIZE: 41428747
BYTE_COUNT: 5449
