FILENAME: O4710556.SWS.1165326.tif
QUADRANGLE_NAME: WOODROW
QUADRANT: SW
WEST_LONGITUDE: -105 7 30.00000
EAST_LONGITUDE: -105 3 45.00000
NORTH_LATITUDE: 47 11 15.00000
SOUTH_LATITUDE: 47 7 30.00000
PRODUCTION_DATE: 2001 9 27
RASTER_ORDER: LEFT_RIGHT/TOP_BOTTOM
BAND_ORGANIZATION: SINGLE FILE
BAND_CONTENT: BLACK&WHITE
BAND_CONTENT: UNDEFINED
BAND_CONTENT: UNDEFINED
BITS_PER_PIXEL: 8
SAMPLES_AND_LINES: 5398 7564
HORIZONTAL_DATUM: NAD83
HORIZONTAL_COORDINATE_SYSTEM: UTM
COORDINATE_ZONE: 13
HORIZONTAL_UNITS: meters
HORIZONTAL_RESOLUTION: 1.00000
SECONDARY_HORIZONTAL_DATUM: NAD27
XY_ORIGIN: 490173.00000 5226315.00000
SECONDARY_XY_ORIGIN: 490213.19700 5226095.12500
NATION: US
STATE: MT
NW_QUAD_CORNER_XY: 490530.10000 5226008.22600
NE_QUAD_CORNER_XY: 495265.05000 5226002.54200
SE_QUAD_CORNERY_XY: 495259.49500 5219056.95400
SW_QUAD_CORNER_XY: 490518.99000 5219062.63800
SECONDARY_NW_QUAD_XY: 490529.80700 5225789.61000
SECONDARY_NE_QUAD_XY: 495264.90300 5225783.92600
SECONDARY_SE_QUAD_XY: 495259.34800 5218838.36400
SECONDARY_SW_QUAD_XY: 490518.69700 5218844.04900
RMSE_XY: 2.65000
IMAGE_SOURCE: BLACK AND WHITE FILM
SOURCE_IMAGE_ID: NAPP 9103-162
SOURCE_IMAGE_DATE: 1996 7 15
SOURCE_IMAGE_ID: NAPP 9096-201
SOURCE_IMAGE_DATE: 1996 7 9
SOURCE_DEM_DATE: 1999 0 0
AGENCY: WESTERN MAPPING CENTER (WMC)
PRODUCER: WOOLPERT LLP
PRODUCTION_SYSTEM: INTERGRAPH ISPM, ISIR
COMPRESSION: UNDEFINED
STANDARD_VERSION: 1996 12
METADATA_DATE: 2001 10 9
DATA_FILE_SIZE: 40835870
BYTE_COUNT: 5398
