FILENAME: O4710556.SES.1165325.tif
QUADRANGLE_NAME: WOODROW
QUADRANT: SE
WEST_LONGITUDE: -105 3 45.00000
EAST_LONGITUDE: -105 0 0.00000
NORTH_LATITUDE: 47 11 15.00000
SOUTH_LATITUDE: 47 7 30.00000
PRODUCTION_DATE: 2001 9 27
RASTER_ORDER: LEFT_RIGHT/TOP_BOTTOM
BAND_ORGANIZATION: SINGLE FILE
BAND_CONTENT: BLACK&WHITE
BAND_CONTENT: UNDEFINED
BAND_CONTENT: UNDEFINED
BITS_PER_PIXEL: 8
SAMPLES_AND_LINES: 5391 7559
HORIZONTAL_DATUM: NAD83
HORIZONTAL_COORDINATE_SYSTEM: UTM
COORDINATE_ZONE: 13
HORIZONTAL_UNITS: meters
HORIZONTAL_RESOLUTION: 1.00000
SECONDARY_HORIZONTAL_DATUM: NAD27
XY_ORIGIN: 494914.00000 5226309.00000
SECONDARY_XY_ORIGIN: 494954.11900 5226089.11500
NATION: US
STATE: MT
NW_QUAD_CORNER_XY: 495265.05000 5226002.54200
NE_QUAD_CORNER_XY: 500000.00000 5226000.64800
SE_QUAD_CORNERY_XY: 500000.00000 5219055.05900
SW_QUAD_CORNER_XY: 495259.49500 5219056.95400
SECONDARY_NW_QUAD_XY: 495264.90300 5225783.92600
SECONDARY_NE_QUAD_XY: 500000.00000 5225782.03200
SECONDARY_SE_QUAD_XY: 500000.00000 5218836.46900
SECONDARY_SW_QUAD_XY: 495259.34800 5218838.36400
RMSE_XY: 2.45000
IMAGE_SOURCE: BLACK AND WHITE FILM
SOURCE_IMAGE_ID: NAPP 9124-163
SOURCE_IMAGE_DATE: 1997 8 22
SOURCE_IMAGE_ID: NAPP 9096-201
SOURCE_IMAGE_DATE: 1996 7 9
SOURCE_DEM_DATE: 1999 0 0
AGENCY: WESTERN MAPPING CENTER (WMC)
PRODUCER: WOOLPERT LLP
PRODUCTION_SYSTEM: INTERGRAPH ISPM, ISIR
COMPRESSION: UNDEFINED
STANDARD_VERSION: 1996 12
METADATA_DATE: 2001 10 9
DATA_FILE_SIZE: 40755960
BYTE_COUNT: 5391
