FILENAME: O4710558.SWS.1163849.tif
QUADRANGLE_NAME: WATKINS SE
QUADRANT: SW
WEST_LONGITUDE: -105 52 30.00000
EAST_LONGITUDE: -105 48 45.00000
NORTH_LATITUDE: 47 3 45.00000
SOUTH_LATITUDE: 47 0 0.00000
PRODUCTION_DATE: 2001 9 18
RASTER_ORDER: LEFT_RIGHT/TOP_BOTTOM
BAND_ORGANIZATION: SINGLE FILE
BAND_CONTENT: BLACK&WHITE
BAND_CONTENT: UNDEFINED
BAND_CONTENT: UNDEFINED
BITS_PER_PIXEL: 8
SAMPLES_AND_LINES: 5478 7608
HORIZONTAL_DATUM: NAD83
HORIZONTAL_COORDINATE_SYSTEM: UTM
COORDINATE_ZONE: 13
HORIZONTAL_UNITS: meters
HORIZONTAL_RESOLUTION: 1.00000
SECONDARY_HORIZONTAL_DATUM: NAD27
XY_ORIGIN: 433129.00000 5212787.00000
SECONDARY_XY_ORIGIN: 433170.29000 5212567.46800
NATION: US
STATE: MT
NW_QUAD_CORNER_XY: 433555.41600 5212480.99600
NE_QUAD_CORNER_XY: 438301.43400 5212429.82600
SE_QUAD_CORNERY_XY: 438229.36100 5205484.43800
SW_QUAD_CORNER_XY: 433477.79800 5205535.61600
SECONDARY_NW_QUAD_XY: 433553.36600 5212262.44500
SECONDARY_NE_QUAD_XY: 438299.53000 5212211.27300
SECONDARY_SE_QUAD_XY: 438227.45700 5205265.91300
SECONDARY_SW_QUAD_XY: 433475.74800 5205317.09300
RMSE_XY: 2.16000
IMAGE_SOURCE: BLACK AND WHITE FILM
SOURCE_IMAGE_ID: NAPP 10766-160
SOURCE_IMAGE_DATE: 1998 7 10
SOURCE_IMAGE_ID: NAPP 10766-161
SOURCE_IMAGE_DATE: 1998 7 10
SOURCE_DEM_DATE: 1999 0 0
AGENCY: WESTERN MAPPING CENTER (WMC)
PRODUCER: WOOLPERT LLP
PRODUCTION_SYSTEM: INTERGRAPH ISPM, ISIR
COMPRESSION: UNDEFINED
STANDARD_VERSION: 1996 12
METADATA_DATE: 2001 9 26
DATA_FILE_SIZE: 41682102
BYTE_COUNT: 5478
