FILENAME: O4710558.NES.1163846.tif
QUADRANGLE_NAME: WATKINS SE
QUADRANT: NE
WEST_LONGITUDE: -105 48 45.00000
EAST_LONGITUDE: -105 45 0.00000
NORTH_LATITUDE: 47 7 30.00000
SOUTH_LATITUDE: 47 3 45.00000
PRODUCTION_DATE: 2001 9 18
RASTER_ORDER: LEFT_RIGHT/TOP_BOTTOM
BAND_ORGANIZATION: SINGLE FILE
BAND_CONTENT: BLACK&WHITE
BAND_CONTENT: UNDEFINED
BAND_CONTENT: UNDEFINED
BITS_PER_PIXEL: 8
SAMPLES_AND_LINES: 5467 7605
HORIZONTAL_DATUM: NAD83
HORIZONTAL_COORDINATE_SYSTEM: UTM
COORDINATE_ZONE: 13
HORIZONTAL_UNITS: meters
HORIZONTAL_RESOLUTION: 1.00000
SECONDARY_HORIZONTAL_DATUM: NAD27
XY_ORIGIN: 437953.00000 5219682.00000
SECONDARY_XY_ORIGIN: 437994.11600 5219462.42800
NATION: US
STATE: MT
NW_QUAD_CORNER_XY: 438373.58200 5219375.28800
NE_QUAD_CORNER_XY: 443114.05500 5219327.91600
SE_QUAD_CORNERY_XY: 443047.45800 5212382.44600
SW_QUAD_CORNER_XY: 438301.43400 5212429.82600
SECONDARY_NW_QUAD_XY: 438371.67700 5219156.70800
SECONDARY_NE_QUAD_XY: 443112.29700 5219109.33500
SECONDARY_SE_QUAD_XY: 443045.70000 5212163.89200
SECONDARY_SW_QUAD_XY: 438299.53000 5212211.27300
RMSE_XY: 2.27000
IMAGE_SOURCE: BLACK AND WHITE FILM
SOURCE_IMAGE_ID: NAPP 9086-149
SOURCE_IMAGE_DATE: 1996 6 13
SOURCE_IMAGE_ID: NAPP 10721-153
SOURCE_IMAGE_DATE: 1997 8 25
SOURCE_DEM_DATE: 1999 0 0
AGENCY: WESTERN MAPPING CENTER (WMC)
PRODUCER: WOOLPERT LLP
PRODUCTION_SYSTEM: INTERGRAPH ISPM, ISIR
COMPRESSION: UNDEFINED
STANDARD_VERSION: 1996 12
METADATA_DATE: 2001 10 31
DATA_FILE_SIZE: 41582002
BYTE_COUNT: 5467
