FILENAME: O4710560.SWS.1163869.tif
QUADRANGLE_NAME: BECKER DAM
QUADRANT: SW
WEST_LONGITUDE: -105 37 30.00000
EAST_LONGITUDE: -105 33 45.00000
NORTH_LATITUDE: 47 3 45.00000
SOUTH_LATITUDE: 47 0 0.00000
PRODUCTION_DATE: 2001 9 17
RASTER_ORDER: LEFT_RIGHT/TOP_BOTTOM
BAND_ORGANIZATION: SINGLE FILE
BAND_CONTENT: BLACK&WHITE
BAND_CONTENT: UNDEFINED
BAND_CONTENT: UNDEFINED
BITS_PER_PIXEL: 8
SAMPLES_AND_LINES: 5455 7594
HORIZONTAL_DATUM: NAD83
HORIZONTAL_COORDINATE_SYSTEM: UTM
COORDINATE_ZONE: 13
HORIZONTAL_UNITS: meters
HORIZONTAL_RESOLUTION: 1.00000
SECONDARY_HORIZONTAL_DATUM: NAD27
XY_ORIGIN: 452136.00000 5212606.00000
SECONDARY_XY_ORIGIN: 452176.87200 5212386.35400
NATION: US
STATE: MT
NW_QUAD_CORNER_XY: 452539.51900 5212299.05800
NE_QUAD_CORNER_XY: 457285.55600 5212263.05100
SE_QUAD_CORNERY_XY: 457235.66000 5205317.63700
SW_QUAD_CORNER_XY: 452484.07900 5205353.65100
SECONDARY_NW_QUAD_XY: 452538.05500 5212080.50200
SECONDARY_NE_QUAD_XY: 457284.23800 5212044.49300
SECONDARY_SE_QUAD_XY: 457234.34300 5205099.10800
SECONDARY_SW_QUAD_XY: 452482.61500 5205135.12200
RMSE_XY: 3.00000
IMAGE_SOURCE: BLACK AND WHITE FILM
SOURCE_IMAGE_ID: NAPP 9094-154
SOURCE_IMAGE_DATE: 1996 7 9
SOURCE_IMAGE_ID: NAPP 9094-153
SOURCE_IMAGE_DATE: 1996 7 9
SOURCE_DEM_DATE: 1999 0 0
AGENCY: WESTERN MAPPING CENTER (WMC)
PRODUCER: WOOLPERT LLP
PRODUCTION_SYSTEM: INTERGRAPH ISPM, ISIR
COMPRESSION: UNDEFINED
STANDARD_VERSION: 1996 12
METADATA_DATE: 2001 9 24
DATA_FILE_SIZE: 41430725
BYTE_COUNT: 5455
