FILENAME: O4710560.NES.1163866.tif
QUADRANGLE_NAME: BECKER DAM
QUADRANT: NE
WEST_LONGITUDE: -105 33 45.00000
EAST_LONGITUDE: -105 30 0.00000
NORTH_LATITUDE: 47 7 30.00000
SOUTH_LATITUDE: 47 3 45.00000
PRODUCTION_DATE: 2001 9 17
RASTER_ORDER: LEFT_RIGHT/TOP_BOTTOM
BAND_ORGANIZATION: SINGLE FILE
BAND_CONTENT: BLACK&WHITE
BAND_CONTENT: UNDEFINED
BAND_CONTENT: UNDEFINED
BITS_PER_PIXEL: 8
SAMPLES_AND_LINES: 5443 7590
HORIZONTAL_DATUM: NAD83
HORIZONTAL_COORDINATE_SYSTEM: UTM
COORDINATE_ZONE: 13
HORIZONTAL_UNITS: meters
HORIZONTAL_RESOLUTION: 1.00000
SECONDARY_HORIZONTAL_DATUM: NAD27
XY_ORIGIN: 456938.00000 5219515.00000
SECONDARY_XY_ORIGIN: 456978.75200 5219295.29600
NATION: US
STATE: MT
NW_QUAD_CORNER_XY: 457335.50200 5219208.53900
NE_QUAD_CORNER_XY: 462075.99300 5219176.32700
SE_QUAD_CORNERY_XY: 462031.59600 5212230.83300
SW_QUAD_CORNER_XY: 457285.55600 5212263.05100
SECONDARY_NW_QUAD_XY: 457334.18400 5218989.95400
SECONDARY_NE_QUAD_XY: 462074.82100 5218957.74100
SECONDARY_SE_QUAD_XY: 462030.42500 5212012.27500
SECONDARY_SW_QUAD_XY: 457284.23800 5212044.49300
RMSE_XY: 2.10000
IMAGE_SOURCE: BLACK AND WHITE FILM
SOURCE_IMAGE_ID: NAPP 9094-027
SOURCE_IMAGE_DATE: 1996 7 9
SOURCE_IMAGE_ID: NAPP 9094-026
SOURCE_IMAGE_DATE: 1996 7 9
SOURCE_IMAGE_ID: NAPP 9094-153
SOURCE_IMAGE_DATE: 1996 7 9
SOURCE_DEM_DATE: 1999 0 0
AGENCY: WESTERN MAPPING CENTER (WMC)
PRODUCER: WOOLPERT LLP
PRODUCTION_SYSTEM: INTERGRAPH ISPM, ISIR
COMPRESSION: UNDEFINED
STANDARD_VERSION: 1996 12
METADATA_DATE: 2001 9 24
DATA_FILE_SIZE: 41317813
BYTE_COUNT: 5443
