FILENAME: O4710563.SWS.1163691.tif
QUADRANGLE_NAME: LINDSAY SW
QUADRANT: SW
WEST_LONGITUDE: -105 15 0.00000
EAST_LONGITUDE: -105 11 15.00000
NORTH_LATITUDE: 47 3 45.00000
SOUTH_LATITUDE: 47 0 0.00000
PRODUCTION_DATE: 2001 9 6
RASTER_ORDER: LEFT_RIGHT/TOP_BOTTOM
BAND_ORGANIZATION: SINGLE FILE
BAND_CONTENT: BLACK&WHITE
BAND_CONTENT: UNDEFINED
BAND_CONTENT: UNDEFINED
BITS_PER_PIXEL: 8
SAMPLES_AND_LINES: 5420 7571
HORIZONTAL_DATUM: NAD83
HORIZONTAL_COORDINATE_SYSTEM: UTM
COORDINATE_ZONE: 13
HORIZONTAL_UNITS: meters
HORIZONTAL_RESOLUTION: 1.00000
SECONDARY_HORIZONTAL_DATUM: NAD27
XY_ORIGIN: 480647.00000 5212447.00000
SECONDARY_XY_ORIGIN: 480687.44900 5212227.28300
NATION: US
STATE: MT
NW_QUAD_CORNER_XY: 481015.78500 5212139.86800
NE_QUAD_CORNER_XY: 485761.83800 5212126.60200
SE_QUAD_CORNERY_XY: 485745.20600 5205181.16800
SW_QUAD_CORNER_XY: 480993.61000 5205194.43600
SECONDARY_NW_QUAD_XY: 481015.20000 5211921.30600
SECONDARY_NE_QUAD_XY: 485761.39800 5211908.04000
SECONDARY_SE_QUAD_XY: 485744.76700 5204962.63400
SECONDARY_SW_QUAD_XY: 480993.02400 5204975.90200
RMSE_XY: 2.35000
IMAGE_SOURCE: BLACK AND WHITE FILM
SOURCE_IMAGE_ID: NAPP 9119-246
SOURCE_IMAGE_DATE: 1996 8 26
SOURCE_IMAGE_ID: NAPP 9119-247
SOURCE_IMAGE_DATE: 1996 8 26
SOURCE_DEM_DATE: 1999 0 0
AGENCY: WESTERN MAPPING CENTER (WMC)
PRODUCER: WOOLPERT LLP
PRODUCTION_SYSTEM: INTERGRAPH ISPM, ISIR
COMPRESSION: UNDEFINED
STANDARD_VERSION: 1996 12
METADATA_DATE: 2001 9 12
DATA_FILE_SIZE: 41040240
BYTE_COUNT: 5420
