FILENAME: O4710563.NES.1163688.tif
QUADRANGLE_NAME: LINDSAY SW
QUADRANT: NE
WEST_LONGITUDE: -105 11 15.00000
EAST_LONGITUDE: -105 7 30.00000
NORTH_LATITUDE: 47 7 30.00000
SOUTH_LATITUDE: 47 3 45.00000
PRODUCTION_DATE: 2001 9 6
RASTER_ORDER: LEFT_RIGHT/TOP_BOTTOM
BAND_ORGANIZATION: SINGLE FILE
BAND_CONTENT: BLACK&WHITE
BAND_CONTENT: UNDEFINED
BAND_CONTENT: UNDEFINED
BITS_PER_PIXEL: 8
SAMPLES_AND_LINES: 5408 7567
HORIZONTAL_DATUM: NAD83
HORIZONTAL_COORDINATE_SYSTEM: UTM
COORDINATE_ZONE: 13
HORIZONTAL_UNITS: meters
HORIZONTAL_RESOLUTION: 1.00000
SECONDARY_HORIZONTAL_DATUM: NAD27
XY_ORIGIN: 485416.00000 5219379.00000
SECONDARY_XY_ORIGIN: 485456.32200 5219159.20600
NATION: US
STATE: MT
NW_QUAD_CORNER_XY: 485778.48600 5219072.11200
NE_QUAD_CORNER_XY: 490518.99000 5219062.63800
SE_QUAD_CORNERY_XY: 490507.89100 5212117.12700
SW_QUAD_CORNER_XY: 485761.83800 5212126.60200
SECONDARY_NW_QUAD_XY: 485778.04700 5218853.52300
SECONDARY_NE_QUAD_XY: 490518.69700 5218844.04900
SECONDARY_SE_QUAD_XY: 490507.59800 5211898.56500
SECONDARY_SW_QUAD_XY: 485761.39800 5211908.04000
RMSE_XY: 2.20000
IMAGE_SOURCE: BLACK AND WHITE FILM
SOURCE_IMAGE_ID: NAPP 9103-171
SOURCE_IMAGE_DATE: 1996 7 15
SOURCE_IMAGE_ID: NAPP 9119-247
SOURCE_IMAGE_DATE: 1996 8 26
SOURCE_DEM_DATE: 1999 0 0
AGENCY: WESTERN MAPPING CENTER (WMC)
PRODUCER: WOOLPERT LLP
PRODUCTION_SYSTEM: INTERGRAPH ISPM, ISIR
COMPRESSION: UNDEFINED
STANDARD_VERSION: 1996 12
METADATA_DATE: 2001 9 12
DATA_FILE_SIZE: 40927744
BYTE_COUNT: 5408
