FILENAME: O4710404.NWS.1133047.tif
QUADRANGLE_NAME: ANDES
QUADRANT: NW
WEST_LONGITUDE: -104 37 30.00000
EAST_LONGITUDE: -104 33 45.00000
NORTH_LATITUDE: 48 0 0.00000
SOUTH_LATITUDE: 47 56 15.00000
PRODUCTION_DATE: 2001 3 13
RASTER_ORDER: LEFT_RIGHT/TOP_BOTTOM
BAND_ORGANIZATION: SINGLE FILE
BAND_CONTENT: BLACK&WHITE
BAND_CONTENT: UNDEFINED
BAND_CONTENT: UNDEFINED
BITS_PER_PIXEL: 8
SAMPLES_AND_LINES: 5351 7584
HORIZONTAL_DATUM: NAD83
HORIZONTAL_COORDINATE_SYSTEM: UTM
COORDINATE_ZONE: 13
HORIZONTAL_UNITS: meters
HORIZONTAL_RESOLUTION: 1.00000
SECONDARY_HORIZONTAL_DATUM: NAD27
XY_ORIGIN: 527629.00000 5316700.00000
SECONDARY_XY_ORIGIN: 527668.25500 5316479.24200
NATION: US
STATE: MT
NW_QUAD_CORNER_XY: 527973.29300 5316368.25400
NE_QUAD_CORNER_XY: 532635.50000 5316392.82100
SE_QUAD_CORNERY_XY: 532674.90000 5309446.26400
SW_QUAD_CORNER_XY: 528007.06400 5309421.69200
SECONDARY_NW_QUAD_XY: 527974.17300 5316149.37600
SECONDARY_NE_QUAD_XY: 532636.52700 5316173.94300
SECONDARY_SE_QUAD_XY: 532675.92700 5309227.40100
SECONDARY_SW_QUAD_XY: 528007.94400 5309202.82900
RMSE_XY: 1.86000
IMAGE_SOURCE: BLACK AND WHITE FILM
SOURCE_IMAGE_ID: NAPP 9124-128
SOURCE_IMAGE_DATE: 1997 8 22
SOURCE_DEM_DATE: 1999 0 0
AGENCY: WESTERN MAPPING CENTER (WMC)
PRODUCER: WOOLPERT LLP
PRODUCTION_SYSTEM: INTERGRAPH ISPM, ISIR
COMPRESSION: UNDEFINED
STANDARD_VERSION: 1996 12
METADATA_DATE: 2001 3 13
DATA_FILE_SIZE: 40587335
BYTE_COUNT: 5351
