FILENAME: O4710405.SWS.1134876.tif
QUADRANGLE_NAME: BLUE HILL
QUADRANT: SW
WEST_LONGITUDE: -104 30 0.00000
EAST_LONGITUDE: -104 26 15.00000
NORTH_LATITUDE: 47 56 15.00000
SOUTH_LATITUDE: 47 52 30.00000
PRODUCTION_DATE: 2001 3 15
RASTER_ORDER: LEFT_RIGHT/TOP_BOTTOM
BAND_ORGANIZATION: SINGLE FILE
BAND_CONTENT: BLACK&WHITE
BAND_CONTENT: UNDEFINED
BAND_CONTENT: UNDEFINED
BITS_PER_PIXEL: 8
SAMPLES_AND_LINES: 5368 7591
HORIZONTAL_DATUM: NAD83
HORIZONTAL_COORDINATE_SYSTEM: UTM
COORDINATE_ZONE: 13
HORIZONTAL_UNITS: meters
HORIZONTAL_RESOLUTION: 1.00000
SECONDARY_HORIZONTAL_DATUM: NAD27
XY_ORIGIN: 536999.00000 5309814.00000
SECONDARY_XY_ORIGIN: 537038.21000 5309593.36200
NATION: US
STATE: MT
NW_QUAD_CORNER_XY: 537342.73100 5309474.61600
NE_QUAD_CORNER_XY: 542010.55800 5309506.74900
SE_QUAD_CORNERY_XY: 542061.16500 5302560.28100
SW_QUAD_CORNER_XY: 537387.71500 5302528.14100
SECONDARY_NW_QUAD_XY: 537343.90500 5309255.75500
SECONDARY_NE_QUAD_XY: 542011.87900 5309287.88900
SECONDARY_SE_QUAD_XY: 542062.48600 5302341.43700
SECONDARY_SW_QUAD_XY: 537388.88900 5302309.29600
RMSE_XY: 2.11000
IMAGE_SOURCE: BLACK AND WHITE FILM
SOURCE_IMAGE_ID: NAPP 9108-107
SOURCE_IMAGE_DATE: 1996 8 8
SOURCE_DEM_DATE: 1999 0 0
AGENCY: WESTERN MAPPING CENTER (WMC)
PRODUCER: WOOLPERT LLP
PRODUCTION_SYSTEM: INTERGRAPH ISPM, ISIR
COMPRESSION: UNDEFINED
STANDARD_VERSION: 1996 12
METADATA_DATE: 2001 3 15
DATA_FILE_SIZE: 40753856
BYTE_COUNT: 5368
