FILENAME: O4710405.NWS.1134874.tif
QUADRANGLE_NAME: BLUE HILL
QUADRANT: NW
WEST_LONGITUDE: -104 30 0.00000
EAST_LONGITUDE: -104 26 15.00000
NORTH_LATITUDE: 48 0 0.00000
SOUTH_LATITUDE: 47 56 15.00000
PRODUCTION_DATE: 2001 3 15
RASTER_ORDER: LEFT_RIGHT/TOP_BOTTOM
BAND_ORGANIZATION: SINGLE FILE
BAND_CONTENT: BLACK&WHITE
BAND_CONTENT: UNDEFINED
BAND_CONTENT: UNDEFINED
BITS_PER_PIXEL: 8
SAMPLES_AND_LINES: 5362 7592
HORIZONTAL_DATUM: NAD83
HORIZONTAL_COORDINATE_SYSTEM: UTM
COORDINATE_ZONE: 13
HORIZONTAL_UNITS: meters
HORIZONTAL_RESOLUTION: 1.00000
SECONDARY_HORIZONTAL_DATUM: NAD27
XY_ORIGIN: 536954.00000 5316761.00000
SECONDARY_XY_ORIGIN: 536993.20300 5316540.28800
NATION: US
STATE: MT
NW_QUAD_CORNER_XY: 537297.70300 5316421.16700
NE_QUAD_CORNER_XY: 541959.90100 5316453.29200
SE_QUAD_CORNERY_XY: 542010.55800 5309506.74900
SW_QUAD_CORNER_XY: 537342.73100 5309474.61600
SECONDARY_NW_QUAD_XY: 537298.87700 5316202.29000
SECONDARY_NE_QUAD_XY: 541961.22200 5316234.41700
SECONDARY_SE_QUAD_XY: 542011.87900 5309287.88900
SECONDARY_SW_QUAD_XY: 537343.90500 5309255.75500
RMSE_XY: 1.94000
IMAGE_SOURCE: BLACK AND WHITE FILM
SOURCE_IMAGE_ID: NAPP 9108-109
SOURCE_IMAGE_DATE: 1996 8 8
SOURCE_DEM_DATE: 1999 0 0
AGENCY: WESTERN MAPPING CENTER (WMC)
PRODUCER: WOOLPERT LLP
PRODUCTION_SYSTEM: INTERGRAPH ISPM, ISIR
COMPRESSION: UNDEFINED
STANDARD_VERSION: 1996 12
METADATA_DATE: 2001 3 15
DATA_FILE_SIZE: 40713666
BYTE_COUNT: 5362
