FILENAME: O4710406.SWS.1134888.tif
QUADRANGLE_NAME: SIOUX PASS
QUADRANT: SW
WEST_LONGITUDE: -104 22 30.00000
EAST_LONGITUDE: -104 18 45.00000
NORTH_LATITUDE: 47 56 15.00000
SOUTH_LATITUDE: 47 52 30.00000
PRODUCTION_DATE: 2001 3 15
RASTER_ORDER: LEFT_RIGHT/TOP_BOTTOM
BAND_ORGANIZATION: SINGLE FILE
BAND_CONTENT: BLACK&WHITE
BAND_CONTENT: UNDEFINED
BAND_CONTENT: UNDEFINED
BITS_PER_PIXEL: 8
SAMPLES_AND_LINES: 5379 7599
HORIZONTAL_DATUM: NAD83
HORIZONTAL_COORDINATE_SYSTEM: UTM
COORDINATE_ZONE: 13
HORIZONTAL_UNITS: meters
HORIZONTAL_RESOLUTION: 1.00000
SECONDARY_HORIZONTAL_DATUM: NAD27
XY_ORIGIN: 546335.00000 5309890.00000
SECONDARY_XY_ORIGIN: 546374.10300 5309669.41000
NATION: US
STATE: MT
NW_QUAD_CORNER_XY: 546678.38100 5309542.66300
NE_QUAD_CORNER_XY: 551346.19700 5309582.35700
SE_QUAD_CORNERY_XY: 551408.05100 5302635.90500
SW_QUAD_CORNER_XY: 546734.61100 5302596.20200
SECONDARY_NW_QUAD_XY: 546679.84800 5309323.80300
SECONDARY_NE_QUAD_XY: 551347.81100 5309363.49800
SECONDARY_SE_QUAD_XY: 551409.66400 5302417.06300
SECONDARY_SW_QUAD_XY: 546736.07800 5302377.35900
RMSE_XY: 1.82000
IMAGE_SOURCE: BLACK AND WHITE FILM
SOURCE_IMAGE_ID: NAPP 9095-086
SOURCE_IMAGE_DATE: 1996 7 9
SOURCE_DEM_DATE: 1999 0 0
AGENCY: WESTERN MAPPING CENTER (WMC)
PRODUCER: WOOLPERT LLP
PRODUCTION_SYSTEM: INTERGRAPH ISPM, ISIR
COMPRESSION: UNDEFINED
STANDARD_VERSION: 1996 12
METADATA_DATE: 2001 3 15
DATA_FILE_SIZE: 40880400
BYTE_COUNT: 5379
