FILENAME: O4710407.SES.1134899.tif
QUADRANGLE_NAME: FAIRVIEW NW
QUADRANT: SE
WEST_LONGITUDE: -104 11 15.00000
EAST_LONGITUDE: -104 7 30.00000
NORTH_LATITUDE: 47 56 15.00000
SOUTH_LATITUDE: 47 52 30.00000
PRODUCTION_DATE: 2001 3 9
RASTER_ORDER: LEFT_RIGHT/TOP_BOTTOM
BAND_ORGANIZATION: SINGLE FILE
BAND_CONTENT: BLACK&WHITE
BAND_CONTENT: UNDEFINED
BAND_CONTENT: UNDEFINED
BITS_PER_PIXEL: 8
SAMPLES_AND_LINES: 5395 7610
HORIZONTAL_DATUM: NAD83
HORIZONTAL_COORDINATE_SYSTEM: UTM
COORDINATE_ZONE: 13
HORIZONTAL_UNITS: meters
HORIZONTAL_RESOLUTION: 1.00000
SECONDARY_HORIZONTAL_DATUM: NAD27
XY_ORIGIN: 560339.00000 5310031.00000
SECONDARY_XY_ORIGIN: 560377.93300 5309810.44900
NATION: US
STATE: MT
NW_QUAD_CORNER_XY: 560681.81100 5309673.08700
NE_QUAD_CORNER_XY: 565349.60700 5309724.12400
SE_QUAD_CORNERY_XY: 565428.33200 5302777.70300
SW_QUAD_CORNER_XY: 560754.91200 5302726.65500
SECONDARY_NW_QUAD_XY: 560683.71800 5309454.23200
SECONDARY_NE_QUAD_XY: 565351.66100 5309505.27000
SECONDARY_SE_QUAD_XY: 565430.38600 5302558.86600
SECONDARY_SW_QUAD_XY: 560756.81900 5302507.81600
RMSE_XY: 2.27000
IMAGE_SOURCE: BLACK AND WHITE FILM
SOURCE_IMAGE_ID: NAPP 9123-131
SOURCE_IMAGE_DATE: 1997 8 3
SOURCE_DEM_DATE: 2001 1 1
AGENCY: WESTERN MAPPING CENTER (WMC)
PRODUCER: WOOLPERT LLP
PRODUCTION_SYSTEM: INTERGRAPH ISPM, ISIR
COMPRESSION: UNDEFINED
STANDARD_VERSION: 1996 12
METADATA_DATE: 2001 3 9
DATA_FILE_SIZE: 41061345
BYTE_COUNT: 5395
