FILENAME: O4710408.SWS.1134910.tif
QUADRANGLE_NAME: DORE
QUADRANT: SW
WEST_LONGITUDE: -104 7 30.00000
EAST_LONGITUDE: -104 3 45.00000
NORTH_LATITUDE: 47 56 15.00000
SOUTH_LATITUDE: 47 52 30.00000
PRODUCTION_DATE: 2001 3 9
RASTER_ORDER: LEFT_RIGHT/TOP_BOTTOM
BAND_ORGANIZATION: SINGLE FILE
BAND_CONTENT: BLACK&WHITE
BAND_CONTENT: UNDEFINED
BAND_CONTENT: UNDEFINED
BITS_PER_PIXEL: 8
SAMPLES_AND_LINES: 5400 7614
HORIZONTAL_DATUM: NAD83
HORIZONTAL_COORDINATE_SYSTEM: UTM
COORDINATE_ZONE: 13
HORIZONTAL_UNITS: meters
HORIZONTAL_RESOLUTION: 1.00000
SECONDARY_HORIZONTAL_DATUM: NAD27
XY_ORIGIN: 565007.00000 5310086.00000
SECONDARY_XY_ORIGIN: 565045.87300 5309865.43800
NATION: US
STATE: MT
NW_QUAD_CORNER_XY: 565349.60700 5309724.12400
NE_QUAD_CORNER_XY: 570017.39500 5309778.94100
SE_QUAD_CORNERY_XY: 570101.74500 5302832.53300
SW_QUAD_CORNER_XY: 565428.33200 5302777.70300
SECONDARY_NW_QUAD_XY: 565351.66100 5309505.27000
SECONDARY_NE_QUAD_XY: 570019.59600 5309560.08900
SECONDARY_SE_QUAD_XY: 570103.94500 5302613.69700
SECONDARY_SW_QUAD_XY: 565430.38600 5302558.86600
RMSE_XY: 1.72000
IMAGE_SOURCE: BLACK AND WHITE FILM
SOURCE_IMAGE_ID: NAPP 8631-038
SOURCE_IMAGE_DATE: 1995 7 28
SOURCE_DEM_DATE: 1995 0 0
AGENCY: WESTERN MAPPING CENTER (WMC)
PRODUCER: WOOLPERT LLP
PRODUCTION_SYSTEM: INTERGRAPH ISPM, ISIR
COMPRESSION: UNDEFINED
STANDARD_VERSION: 1996 12
METADATA_DATE: 2001 3 9
DATA_FILE_SIZE: 41121000
BYTE_COUNT: 5400
