FILENAME: O4710409.SWS.1163217.tif
QUADRANGLE_NAME: ELMDALE SW
QUADRANT: SW
WEST_LONGITUDE: -105 0 0.00000
EAST_LONGITUDE: -104 56 15.00000
NORTH_LATITUDE: 47 48 45.00000
SOUTH_LATITUDE: 47 45 0.00000
PRODUCTION_DATE: 2001 9 27
RASTER_ORDER: LEFT_RIGHT/TOP_BOTTOM
BAND_ORGANIZATION: SINGLE FILE
BAND_CONTENT: BLACK&WHITE
BAND_CONTENT: UNDEFINED
BAND_CONTENT: UNDEFINED
BITS_PER_PIXEL: 8
SAMPLES_AND_LINES: 5335 7561
HORIZONTAL_DATUM: NAD83
HORIZONTAL_COORDINATE_SYSTEM: UTM
COORDINATE_ZONE: 13
HORIZONTAL_UNITS: meters
HORIZONTAL_RESOLUTION: 1.00000
SECONDARY_HORIZONTAL_DATUM: NAD27
XY_ORIGIN: 499655.00000 5295770.00000
SECONDARY_XY_ORIGIN: 499694.57500 5295549.30800
NATION: US
STATE: MT
NW_QUAD_CORNER_XY: 500000.00000 5295460.72000
NE_QUAD_CORNER_XY: 504679.08700 5295462.61100
SE_QUAD_CORNERY_XY: 504684.69900 5288516.26200
SW_QUAD_CORNER_XY: 500000.00000 5288514.37100
SECONDARY_NW_QUAD_XY: 500000.00000 5295241.88800
SECONDARY_NE_QUAD_XY: 504679.23400 5295243.77900
SECONDARY_SE_QUAD_XY: 504684.84600 5288297.44700
SECONDARY_SW_QUAD_XY: 500000.00000 5288295.55600
RMSE_XY: 2.70000
IMAGE_SOURCE: BLACK AND WHITE FILM
SOURCE_IMAGE_ID: NAPP 9096-103
SOURCE_IMAGE_DATE: 1996 7 9
SOURCE_IMAGE_ID: NAPP 9096-104
SOURCE_IMAGE_DATE: 1996 7 9
SOURCE_IMAGE_ID: NAPP 9096-102
SOURCE_IMAGE_DATE: 1996 7 9
SOURCE_DEM_DATE: 1999 0 0
AGENCY: WESTERN MAPPING CENTER (WMC)
PRODUCER: WOOLPERT LLP
PRODUCTION_SYSTEM: INTERGRAPH ISPM, ISIR
COMPRESSION: UNDEFINED
STANDARD_VERSION: 1996 12
METADATA_DATE: 2001 10 17
DATA_FILE_SIZE: 40343270
BYTE_COUNT: 5335
