FILENAME: O4710410.NWS.1163227.tif
QUADRANGLE_NAME: CARDA COULEE
QUADRANT: NW
WEST_LONGITUDE: -104 52 30.00000
EAST_LONGITUDE: -104 48 45.00000
NORTH_LATITUDE: 47 52 30.00000
SOUTH_LATITUDE: 47 48 45.00000
PRODUCTION_DATE: 2001 9 27
RASTER_ORDER: LEFT_RIGHT/TOP_BOTTOM
BAND_ORGANIZATION: SINGLE FILE
BAND_CONTENT: BLACK&WHITE
BAND_CONTENT: UNDEFINED
BAND_CONTENT: UNDEFINED
BITS_PER_PIXEL: 8
SAMPLES_AND_LINES: 5341 7568
HORIZONTAL_DATUM: NAD83
HORIZONTAL_COORDINATE_SYSTEM: UTM
COORDINATE_ZONE: 13
HORIZONTAL_UNITS: meters
HORIZONTAL_RESOLUTION: 1.00000
SECONDARY_HORIZONTAL_DATUM: NAD27
XY_ORIGIN: 509002.00000 5302731.00000
SECONDARY_XY_ORIGIN: 509041.44900 5302510.28200
NATION: US
STATE: MT
NW_QUAD_CORNER_XY: 509346.94000 5302414.70800
NE_QUAD_CORNER_XY: 514020.40800 5302424.16000
SE_QUAD_CORNERY_XY: 514037.26000 5295477.73800
SW_QUAD_CORNER_XY: 509358.17400 5295468.28400
SECONDARY_NW_QUAD_XY: 509347.23300 5302195.85900
SECONDARY_NE_QUAD_XY: 514020.84800 5302205.31200
SECONDARY_SE_QUAD_XY: 514037.70000 5295258.90700
SECONDARY_SW_QUAD_XY: 509358.46800 5295249.45200
RMSE_XY: 2.33000
IMAGE_SOURCE: BLACK AND WHITE FILM
SOURCE_IMAGE_ID: NAPP 9124-143
SOURCE_IMAGE_DATE: 1997 8 22
SOURCE_DEM_DATE: 1999 0 0
AGENCY: WESTERN MAPPING CENTER (WMC)
PRODUCER: WOOLPERT LLP
PRODUCTION_SYSTEM: INTERGRAPH ISPM, ISIR
COMPRESSION: UNDEFINED
STANDARD_VERSION: 1996 12
METADATA_DATE: 2001 10 17
DATA_FILE_SIZE: 40426029
BYTE_COUNT: 5341
