FILENAME: O4710411.NES.1163238.tif
QUADRANGLE_NAME: THREE BUTTES CREEK WEST
QUADRANT: NE
WEST_LONGITUDE: -104 41 15.00000
EAST_LONGITUDE: -104 37 30.00000
NORTH_LATITUDE: 47 52 30.00000
SOUTH_LATITUDE: 47 48 45.00000
PRODUCTION_DATE: 2001 9 27
RASTER_ORDER: LEFT_RIGHT/TOP_BOTTOM
BAND_ORGANIZATION: SINGLE FILE
BAND_CONTENT: BLACK&WHITE
BAND_CONTENT: UNDEFINED
BAND_CONTENT: UNDEFINED
BITS_PER_PIXEL: 8
SAMPLES_AND_LINES: 5357 7580
HORIZONTAL_DATUM: NAD83
HORIZONTAL_COORDINATE_SYSTEM: UTM
COORDINATE_ZONE: 13
HORIZONTAL_UNITS: meters
HORIZONTAL_RESOLUTION: 1.00000
SECONDARY_HORIZONTAL_DATUM: NAD27
XY_ORIGIN: 523023.00000 5302782.00000
SECONDARY_XY_ORIGIN: 523062.32700 5302561.36500
NATION: US
STATE: MT
NW_QUAD_CORNER_XY: 523367.34000 5302454.40900
NE_QUAD_CORNER_XY: 528040.80200 5302475.20500
SE_QUAD_CORNERY_XY: 528074.50600 5295528.79400
SW_QUAD_CORNER_XY: 523395.42600 5295507.99400
SECONDARY_NW_QUAD_XY: 523368.07300 5302235.56100
SECONDARY_NE_QUAD_XY: 528041.68200 5302256.35800
SECONDARY_SE_QUAD_XY: 528075.38600 5295309.96400
SECONDARY_SW_QUAD_XY: 523396.16000 5295289.16300
RMSE_XY: 2.11000
IMAGE_SOURCE: BLACK AND WHITE FILM
SOURCE_IMAGE_ID: NAPP 9080-092
SOURCE_IMAGE_DATE: 1996 6 12
SOURCE_DEM_DATE: 1999 0 0
AGENCY: WESTERN MAPPING CENTER (WMC)
PRODUCER: WOOLPERT LLP
PRODUCTION_SYSTEM: INTERGRAPH ISPM, ISIR
COMPRESSION: UNDEFINED
STANDARD_VERSION: 1996 12
METADATA_DATE: 2001 10 17
DATA_FILE_SIZE: 40611417
BYTE_COUNT: 5357
