FILENAME: O4710412.SES.1163253.tif
QUADRANGLE_NAME: THREE BUTTES CREEK EAST
QUADRANT: SE
WEST_LONGITUDE: -104 33 45.00000
EAST_LONGITUDE: -104 30 0.00000
NORTH_LATITUDE: 47 48 45.00000
SOUTH_LATITUDE: 47 45 0.00000
PRODUCTION_DATE: 2001 9 27
RASTER_ORDER: LEFT_RIGHT/TOP_BOTTOM
BAND_ORGANIZATION: SINGLE FILE
BAND_CONTENT: BLACK&WHITE
BAND_CONTENT: UNDEFINED
BAND_CONTENT: UNDEFINED
BITS_PER_PIXEL: 8
SAMPLES_AND_LINES: 5373 7587
HORIZONTAL_DATUM: NAD83
HORIZONTAL_COORDINATE_SYSTEM: UTM
COORDINATE_ZONE: 13
HORIZONTAL_UNITS: meters
HORIZONTAL_RESOLUTION: 1.00000
SECONDARY_HORIZONTAL_DATUM: NAD27
XY_ORIGIN: 532410.00000 5295889.00000
SECONDARY_XY_ORIGIN: 532449.26500 5295668.48800
NATION: US
STATE: MT
NW_QUAD_CORNER_XY: 532753.58200 5295553.37700
NE_QUAD_CORNER_XY: 537432.65400 5295581.74200
SE_QUAD_CORNERY_XY: 537477.54800 5288635.41700
SW_QUAD_CORNER_XY: 532792.86400 5288607.04700
SECONDARY_NW_QUAD_XY: 532754.60800 5295334.54800
SECONDARY_NE_QUAD_XY: 537433.82700 5295362.91300
SECONDARY_SE_QUAD_XY: 537478.72100 5288416.60700
SECONDARY_SW_QUAD_XY: 532793.89000 5288388.23500
RMSE_XY: 2.65000
IMAGE_SOURCE: BLACK AND WHITE FILM
SOURCE_IMAGE_ID: NAPP 9082-064
SOURCE_IMAGE_DATE: 1996 6 12
SOURCE_DEM_DATE: 1999 0 0
AGENCY: WESTERN MAPPING CENTER (WMC)
PRODUCER: WOOLPERT LLP
PRODUCTION_SYSTEM: INTERGRAPH ISPM, ISIR
COMPRESSION: UNDEFINED
STANDARD_VERSION: 1996 12
METADATA_DATE: 2001 10 17
DATA_FILE_SIZE: 40770324
BYTE_COUNT: 5373
