FILENAME: O4710413.NES.1163263.tif
QUADRANGLE_NAME: GIRARD
QUADRANT: NE
WEST_LONGITUDE: -104 26 15.00000
EAST_LONGITUDE: -104 22 30.00000
NORTH_LATITUDE: 47 52 30.00000
SOUTH_LATITUDE: 47 48 45.00000
PRODUCTION_DATE: 2001 9 27
RASTER_ORDER: LEFT_RIGHT/TOP_BOTTOM
BAND_ORGANIZATION: SINGLE FILE
BAND_CONTENT: BLACK&WHITE
BAND_CONTENT: UNDEFINED
BAND_CONTENT: UNDEFINED
BITS_PER_PIXEL: 8
SAMPLES_AND_LINES: 5378 7595
HORIZONTAL_DATUM: NAD83
HORIZONTAL_COORDINATE_SYSTEM: UTM
COORDINATE_ZONE: 13
HORIZONTAL_UNITS: meters
HORIZONTAL_RESOLUTION: 1.00000
SECONDARY_HORIZONTAL_DATUM: NAD27
XY_ORIGIN: 541718.00000 5302903.00000
SECONDARY_XY_ORIGIN: 541757.16000 5302682.46200
NATION: US
STATE: MT
NW_QUAD_CORNER_XY: 542061.16500 5302560.28100
NE_QUAD_CORNER_XY: 546734.61100 5302596.20200
SE_QUAD_CORNERY_XY: 546790.78500 5295649.81700
SW_QUAD_CORNER_XY: 542111.72200 5295613.88800
SECONDARY_NW_QUAD_XY: 542062.48600 5302341.43700
SECONDARY_NE_QUAD_XY: 546736.07800 5302377.35900
SECONDARY_SE_QUAD_XY: 546792.25200 5295430.99100
SECONDARY_SW_QUAD_XY: 542113.04200 5295395.06100
RMSE_XY: 2.60000
IMAGE_SOURCE: BLACK AND WHITE FILM
SOURCE_IMAGE_ID: NAPP 9103-044
SOURCE_IMAGE_DATE: 1996 7 15
SOURCE_DEM_DATE: 1999 0 0
AGENCY: WESTERN MAPPING CENTER (WMC)
PRODUCER: WOOLPERT LLP
PRODUCTION_SYSTEM: INTERGRAPH ISPM, ISIR
COMPRESSION: UNDEFINED
STANDARD_VERSION: 1996 12
METADATA_DATE: 2001 10 17
DATA_FILE_SIZE: 40851288
BYTE_COUNT: 5378
