FILENAME: O4710414.NWS.1134916.tif
QUADRANGLE_NAME: BRORSON
QUADRANT: NW
WEST_LONGITUDE: -104 22 30.00000
EAST_LONGITUDE: -104 18 45.00000
NORTH_LATITUDE: 47 52 30.00000
SOUTH_LATITUDE: 47 48 45.00000
PRODUCTION_DATE: 2001 3 14
RASTER_ORDER: LEFT_RIGHT/TOP_BOTTOM
BAND_ORGANIZATION: SINGLE FILE
BAND_CONTENT: BLACK&WHITE
BAND_CONTENT: UNDEFINED
BAND_CONTENT: UNDEFINED
BITS_PER_PIXEL: 8
SAMPLES_AND_LINES: 5384 7599
HORIZONTAL_DATUM: NAD83
HORIZONTAL_COORDINATE_SYSTEM: UTM
COORDINATE_ZONE: 13
HORIZONTAL_UNITS: meters
HORIZONTAL_RESOLUTION: 1.00000
SECONDARY_HORIZONTAL_DATUM: NAD27
XY_ORIGIN: 546391.00000 5302943.00000
SECONDARY_XY_ORIGIN: 546430.10300 5302722.48700
NATION: US
STATE: MT
NW_QUAD_CORNER_XY: 546734.61100 5302596.20200
NE_QUAD_CORNER_XY: 551408.05100 5302635.90500
SE_QUAD_CORNERY_XY: 551469.84300 5295689.52900
SW_QUAD_CORNER_XY: 546790.78500 5295649.81700
SECONDARY_NW_QUAD_XY: 546736.07800 5302377.35900
SECONDARY_NE_QUAD_XY: 551409.66400 5302417.06300
SECONDARY_SE_QUAD_XY: 551471.45600 5295470.70400
SECONDARY_SW_QUAD_XY: 546792.25200 5295430.99100
RMSE_XY: 1.96000
IMAGE_SOURCE: BLACK AND WHITE FILM
SOURCE_IMAGE_ID: NAPP 9095-084
SOURCE_IMAGE_DATE: 1996 7 9
SOURCE_DEM_DATE: 1999 0 0
AGENCY: WESTERN MAPPING CENTER (WMC)
PRODUCER: WOOLPERT LLP
PRODUCTION_SYSTEM: INTERGRAPH ISPM, ISIR
COMPRESSION: UNDEFINED
STANDARD_VERSION: 1996 12
METADATA_DATE: 2001 3 15
DATA_FILE_SIZE: 40918400
BYTE_COUNT: 5384
