FILENAME: O4710414.NES.1134915.tif
QUADRANGLE_NAME: BRORSON
QUADRANT: NE
WEST_LONGITUDE: -104 18 45.00000
EAST_LONGITUDE: -104 15 0.00000
NORTH_LATITUDE: 47 52 30.00000
SOUTH_LATITUDE: 47 48 45.00000
PRODUCTION_DATE: 2001 3 14
RASTER_ORDER: LEFT_RIGHT/TOP_BOTTOM
BAND_ORGANIZATION: SINGLE FILE
BAND_CONTENT: BLACK&WHITE
BAND_CONTENT: UNDEFINED
BAND_CONTENT: UNDEFINED
BITS_PER_PIXEL: 8
SAMPLES_AND_LINES: 5389 7603
HORIZONTAL_DATUM: NAD83
HORIZONTAL_COORDINATE_SYSTEM: UTM
COORDINATE_ZONE: 13
HORIZONTAL_UNITS: meters
HORIZONTAL_RESOLUTION: 1.00000
SECONDARY_HORIZONTAL_DATUM: NAD27
XY_ORIGIN: 551065.00000 5302987.00000
SECONDARY_XY_ORIGIN: 551104.04500 5302766.51100
NATION: US
STATE: MT
NW_QUAD_CORNER_XY: 551408.05100 5302635.90500
NE_QUAD_CORNER_XY: 556081.48500 5302679.39000
SE_QUAD_CORNERY_XY: 556148.89500 5295733.02200
SW_QUAD_CORNER_XY: 551469.84300 5295689.52900
SECONDARY_NW_QUAD_XY: 551409.66400 5302417.06300
SECONDARY_NE_QUAD_XY: 556083.24500 5302460.54900
SECONDARY_SE_QUAD_XY: 556150.65500 5295514.19900
SECONDARY_SW_QUAD_XY: 551471.45600 5295470.70400
RMSE_XY: 1.74000
IMAGE_SOURCE: BLACK AND WHITE FILM
SOURCE_IMAGE_ID: NAPP 9124-066
SOURCE_IMAGE_DATE: 1997 8 22
SOURCE_DEM_DATE: 1999 0 0
AGENCY: WESTERN MAPPING CENTER (WMC)
PRODUCER: WOOLPERT LLP
PRODUCTION_SYSTEM: INTERGRAPH ISPM, ISIR
COMPRESSION: UNDEFINED
STANDARD_VERSION: 1996 12
METADATA_DATE: 2001 3 15
DATA_FILE_SIZE: 40977956
BYTE_COUNT: 5389
