FILENAME: O4710415.SWS.1134926.tif
QUADRANGLE_NAME: FAIRVIEW SW
QUADRANT: SW
WEST_LONGITUDE: -104 15 0.00000
EAST_LONGITUDE: -104 11 15.00000
NORTH_LATITUDE: 47 48 45.00000
SOUTH_LATITUDE: 47 45 0.00000
PRODUCTION_DATE: 2001 3 9
RASTER_ORDER: LEFT_RIGHT/TOP_BOTTOM
BAND_ORGANIZATION: SINGLE FILE
BAND_CONTENT: BLACK&WHITE
BAND_CONTENT: UNDEFINED
BAND_CONTENT: UNDEFINED
BITS_PER_PIXEL: 8
SAMPLES_AND_LINES: 5400 7606
HORIZONTAL_DATUM: NAD83
HORIZONTAL_COORDINATE_SYSTEM: UTM
COORDINATE_ZONE: 13
HORIZONTAL_UNITS: meters
HORIZONTAL_RESOLUTION: 1.00000
SECONDARY_HORIZONTAL_DATUM: NAD27
XY_ORIGIN: 555806.00000 5296087.00000
SECONDARY_XY_ORIGIN: 555844.98200 5295866.61500
NATION: US
STATE: MT
NW_QUAD_CORNER_XY: 556148.89500 5295733.02200
NE_QUAD_CORNER_XY: 560827.94000 5295780.29800
SE_QUAD_CORNERY_XY: 560900.89600 5288834.01600
SW_QUAD_CORNER_XY: 556216.23800 5288786.73000
SECONDARY_NW_QUAD_XY: 556150.65500 5295514.19900
SECONDARY_NE_QUAD_XY: 560829.84700 5295561.47600
SECONDARY_SE_QUAD_XY: 560902.80200 5288615.21100
SECONDARY_SW_QUAD_XY: 556217.99800 5288567.92400
RMSE_XY: 2.11000
IMAGE_SOURCE: BLACK AND WHITE FILM
SOURCE_IMAGE_ID: NAPP 9123-206
SOURCE_IMAGE_DATE: 1997 8 3
SOURCE_DEM_DATE: 2001 1 1
AGENCY: WESTERN MAPPING CENTER (WMC)
PRODUCER: WOOLPERT LLP
PRODUCTION_SYSTEM: INTERGRAPH ISPM, ISIR
COMPRESSION: UNDEFINED
STANDARD_VERSION: 1996 12
METADATA_DATE: 2001 3 9
DATA_FILE_SIZE: 41077800
BYTE_COUNT: 5400
