FILENAME: O4710416.SWS.978708.tif
QUADRANGLE_NAME: FAIRVIEW
QUADRANT: SW
WEST_LONGITUDE: -104 7 30.00000
EAST_LONGITUDE: -104 3 45.00000
NORTH_LATITUDE: 47 48 45.00000
SOUTH_LATITUDE: 47 45 0.00000
PRODUCTION_DATE: 1999 01 08
RASTER_ORDER: LEFT_RIGHT/TOP_BOTTOM
BAND_ORGANIZATION: SINGLE FILE
BAND_CONTENT: BLACK&WHITE
BAND_CONTENT: UNDEFINED
BAND_CONTENT: UNDEFINED
BITS_PER_PIXEL: 8
SAMPLES_AND_LINES: 5399 7601
HORIZONTAL_DATUM: NAD83
HORIZONTAL_COORDINATE_SYSTEM: UTM
COORDINATE_ZONE: 13
HORIZONTAL_UNITS: METERS
HORIZONTAL_RESOLUTION: 1.00000
SECONDARY_HORIZONTAL_DATUM: NAD27
XY_ORIGIN: 565171.50000 5296186.50000
SECONDARY_XY_ORIGIN: 565210.37400 5295966.11500
NATION: US
STATE: MT
NW_QUAD_CORNER_XY: 565506.97900 5295831.35800
NE_QUAD_CORNER_XY: 570186.01000 5295886.19900
SE_QUAD_CORNERY_XY: 570270.19000 5288939.93800
SW_QUAD_CORNER_XY: 565585.54700 5288885.08600
SECONDARY_NW_QUAD_XY: 565509.03200 5295612.53700
SECONDARY_NE_QUAD_XY: 570188.21000 5295667.38000
SECONDARY_SE_QUAD_XY: 570272.39000 5288721.13700
SECONDARY_SW_QUAD_XY: 565587.60000 5288666.28300
RMSE_XY: 0.59000
IMAGE_SOURCE: BLACK & WHITE FILM
SOURCE_IMAGE_ID: NAPP 8631 042
SOURCE_IMAGE_DATE: 1995 07 28
SOURCE_DEM_DATE: 1998 01 01
AGENCY: WESTERN MAPPING CENTER (WMC)
PRODUCER: ATLANTIC TECHNOLOGIES
PRODUCTION_SYSTEM: INTERGRAPH MODEL_SETUP, BASE_RECTIFIER
COMPRESSION: UNDEFINED
STANDARD_VERSION: 1996 12
METADATA_DATE: 1999 01 06
DATA_FILE_SIZE: 41043198
BYTE_COUNT: 5399
