FILENAME: O4710419.NWS.1163243.tif
QUADRANGLE_NAME: FOX LAKE
QUADRANT: NW
WEST_LONGITUDE: -104 45 0.00000
EAST_LONGITUDE: -104 41 15.00000
NORTH_LATITUDE: 47 45 0.00000
SOUTH_LATITUDE: 47 41 15.00000
PRODUCTION_DATE: 2001 9 27
RASTER_ORDER: LEFT_RIGHT/TOP_BOTTOM
BAND_ORGANIZATION: SINGLE FILE
BAND_CONTENT: BLACK&WHITE
BAND_CONTENT: UNDEFINED
BAND_CONTENT: UNDEFINED
BITS_PER_PIXEL: 8
SAMPLES_AND_LINES: 5363 7576
HORIZONTAL_DATUM: NAD83
HORIZONTAL_COORDINATE_SYSTEM: UTM
COORDINATE_ZONE: 13
HORIZONTAL_UNITS: meters
HORIZONTAL_RESOLUTION: 1.00000
SECONDARY_HORIZONTAL_DATUM: NAD27
XY_ORIGIN: 518394.00000 5288869.00000
SECONDARY_XY_ORIGIN: 518433.42100 5288648.48800
NATION: US
STATE: MT
NW_QUAD_CORNER_XY: 518738.79100 5288544.63200
NE_QUAD_CORNER_XY: 523423.48500 5288561.65400
SE_QUAD_CORNERY_XY: 523451.51500 5281615.39000
SW_QUAD_CORNER_XY: 518761.21500 5281598.36500
SECONDARY_NW_QUAD_XY: 518739.37700 5288325.81800
SECONDARY_NE_QUAD_XY: 523424.21800 5288342.84100
SECONDARY_SE_QUAD_XY: 523452.24800 5281396.59600
SECONDARY_SW_QUAD_XY: 518761.80200 5281379.57000
RMSE_XY: 1.87000
IMAGE_SOURCE: BLACK AND WHITE FILM
SOURCE_IMAGE_ID: NAPP 9080-173
SOURCE_IMAGE_DATE: 1996 6 12
SOURCE_IMAGE_ID: NAPP 9080-172
SOURCE_IMAGE_DATE: 1996 6 12
SOURCE_DEM_DATE: 1999 0 0
AGENCY: WESTERN MAPPING CENTER (WMC)
PRODUCER: WOOLPERT LLP
PRODUCTION_SYSTEM: INTERGRAPH ISPM, ISIR
COMPRESSION: UNDEFINED
STANDARD_VERSION: 1996 12
METADATA_DATE: 2001 10 17
DATA_FILE_SIZE: 40635451
BYTE_COUNT: 5363
