FILENAME: O4710420.NWS.1163256.tif
QUADRANGLE_NAME: LAMBERT
QUADRANT: NW
WEST_LONGITUDE: -104 37 30.00000
EAST_LONGITUDE: -104 33 45.00000
NORTH_LATITUDE: 47 45 0.00000
SOUTH_LATITUDE: 47 41 15.00000
PRODUCTION_DATE: 2001 9 27
RASTER_ORDER: LEFT_RIGHT/TOP_BOTTOM
BAND_ORGANIZATION: SINGLE FILE
BAND_CONTENT: BLACK&WHITE
BAND_CONTENT: UNDEFINED
BAND_CONTENT: UNDEFINED
BITS_PER_PIXEL: 8
SAMPLES_AND_LINES: 5374 7583
HORIZONTAL_DATUM: NAD83
HORIZONTAL_COORDINATE_SYSTEM: UTM
COORDINATE_ZONE: 13
HORIZONTAL_UNITS: meters
HORIZONTAL_RESOLUTION: 1.00000
SECONDARY_HORIZONTAL_DATUM: NAD27
XY_ORIGIN: 527764.00000 5288914.00000
SECONDARY_XY_ORIGIN: 527803.32400 5288693.53900
NATION: US
STATE: MT
NW_QUAD_CORNER_XY: 528108.17600 5288582.45900
NE_QUAD_CORNER_XY: 532792.86400 5288607.04700
SE_QUAD_CORNERY_XY: 532832.10600 5281660.79200
SW_QUAD_CORNER_XY: 528141.81200 5281636.19900
SECONDARY_NW_QUAD_XY: 528109.05600 5288363.64700
SECONDARY_NE_QUAD_XY: 532793.89000 5288388.23500
SECONDARY_SE_QUAD_XY: 532833.13300 5281441.99900
SECONDARY_SW_QUAD_XY: 528142.69200 5281417.40600
RMSE_XY: 2.20000
IMAGE_SOURCE: BLACK AND WHITE FILM
SOURCE_IMAGE_ID: NAPP 9082-047
SOURCE_IMAGE_DATE: 1996 6 12
SOURCE_IMAGE_ID: NAPP 9082-062
SOURCE_IMAGE_DATE: 1996 6 12
SOURCE_DEM_DATE: 1999 0 0
AGENCY: WESTERN MAPPING CENTER (WMC)
PRODUCER: WOOLPERT LLP
PRODUCTION_SYSTEM: INTERGRAPH ISPM, ISIR
COMPRESSION: UNDEFINED
STANDARD_VERSION: 1996 12
METADATA_DATE: 2001 10 17
DATA_FILE_SIZE: 40756416
BYTE_COUNT: 5374
