FILENAME: O4710421.SWS.1163270.tif
QUADRANGLE_NAME: CRANE NW
QUADRANT: SW
WEST_LONGITUDE: -104 30 0.00000
EAST_LONGITUDE: -104 26 15.00000
NORTH_LATITUDE: 47 41 15.00000
SOUTH_LATITUDE: 47 37 30.00000
PRODUCTION_DATE: 2001 9 27
RASTER_ORDER: LEFT_RIGHT/TOP_BOTTOM
BAND_ORGANIZATION: SINGLE FILE
BAND_CONTENT: BLACK&WHITE
BAND_CONTENT: UNDEFINED
BAND_CONTENT: UNDEFINED
BITS_PER_PIXEL: 8
SAMPLES_AND_LINES: 5390 7591
HORIZONTAL_DATUM: NAD83
HORIZONTAL_COORDINATE_SYSTEM: UTM
COORDINATE_ZONE: 13
HORIZONTAL_UNITS: meters
HORIZONTAL_RESOLUTION: 1.00000
SECONDARY_HORIZONTAL_DATUM: NAD27
XY_ORIGIN: 537179.00000 5282028.00000
SECONDARY_XY_ORIGIN: 537218.24800 5281807.64600
NATION: US
STATE: MT
NW_QUAD_CORNER_XY: 537522.39700 5281689.16900
NE_QUAD_CORNER_XY: 542212.68400 5281721.32900
SE_QUAD_CORNERY_XY: 542263.08800 5274775.16200
SW_QUAD_CORNER_XY: 537567.20100 5274742.99500
SECONDARY_NW_QUAD_XY: 537523.57000 5281470.37700
SECONDARY_NE_QUAD_XY: 542214.00300 5281502.53800
SECONDARY_SE_QUAD_XY: 542264.40800 5274556.39000
SECONDARY_SW_QUAD_XY: 537568.37400 5274524.22300
RMSE_XY: 2.50000
IMAGE_SOURCE: BLACK AND WHITE FILM
SOURCE_IMAGE_ID: NAPP 9107-027
SOURCE_IMAGE_DATE: 1996 8 7
SOURCE_DEM_DATE: 1999 0 0
AGENCY: WESTERN MAPPING CENTER (WMC)
PRODUCER: WOOLPERT LLP
PRODUCTION_SYSTEM: INTERGRAPH ISPM, ISIR
COMPRESSION: UNDEFINED
STANDARD_VERSION: 1996 12
METADATA_DATE: 2001 10 17
DATA_FILE_SIZE: 40920880
BYTE_COUNT: 5390
