FILENAME: O4710422.NES.1134919.tif
QUADRANGLE_NAME: CRANE NE
QUADRANT: NE
WEST_LONGITUDE: -104 18 45.00000
EAST_LONGITUDE: -104 15 0.00000
NORTH_LATITUDE: 47 45 0.00000
SOUTH_LATITUDE: 47 41 15.00000
PRODUCTION_DATE: 2001 3 14
RASTER_ORDER: LEFT_RIGHT/TOP_BOTTOM
BAND_ORGANIZATION: SINGLE FILE
BAND_CONTENT: BLACK&WHITE
BAND_CONTENT: UNDEFINED
BAND_CONTENT: UNDEFINED
BITS_PER_PIXEL: 8
SAMPLES_AND_LINES: 5400 7602
HORIZONTAL_DATUM: NAD83
HORIZONTAL_COORDINATE_SYSTEM: UTM
COORDINATE_ZONE: 13
HORIZONTAL_UNITS: meters
HORIZONTAL_RESOLUTION: 1.00000
SECONDARY_HORIZONTAL_DATUM: NAD27
XY_ORIGIN: 551189.00000 5289094.00000
SECONDARY_XY_ORIGIN: 551228.04000 5288873.66900
NATION: US
STATE: MT
NW_QUAD_CORNER_XY: 551531.57300 5288743.22700
NE_QUAD_CORNER_XY: 556216.23800 5288786.73000
SE_QUAD_CORNERY_XY: 556283.51300 5281840.51200
SW_QUAD_CORNER_XY: 551593.24200 5281797.00000
SECONDARY_NW_QUAD_XY: 551533.18700 5288524.42000
SECONDARY_NE_QUAD_XY: 556217.99800 5288567.92400
SECONDARY_SE_QUAD_XY: 556285.27300 5281621.72500
SECONDARY_SW_QUAD_XY: 551594.85500 5281578.21200
RMSE_XY: 2.07000
IMAGE_SOURCE: BLACK AND WHITE FILM
SOURCE_IMAGE_ID: NAPP 9124-062
SOURCE_IMAGE_DATE: 1997 8 22
SOURCE_DEM_DATE: 1999 0 0
AGENCY: WESTERN MAPPING CENTER (WMC)
PRODUCER: WOOLPERT LLP
PRODUCTION_SYSTEM: INTERGRAPH ISPM, ISIR
COMPRESSION: UNDEFINED
STANDARD_VERSION: 1996 12
METADATA_DATE: 2001 3 15
DATA_FILE_SIZE: 41056200
BYTE_COUNT: 5400
