FILENAME: O4710423.SES.1134929.tif
QUADRANGLE_NAME: SIDNEY
QUADRANT: SE
WEST_LONGITUDE: -104 11 15.00000
EAST_LONGITUDE: -104 7 30.00000
NORTH_LATITUDE: 47 41 15.00000
SOUTH_LATITUDE: 47 37 30.00000
PRODUCTION_DATE: 2001 3 9
RASTER_ORDER: LEFT_RIGHT/TOP_BOTTOM
BAND_ORGANIZATION: SINGLE FILE
BAND_CONTENT: BLACK&WHITE
BAND_CONTENT: UNDEFINED
BAND_CONTENT: UNDEFINED
BITS_PER_PIXEL: 8
SAMPLES_AND_LINES: 5417 7610
HORIZONTAL_DATUM: NAD83
HORIZONTAL_COORDINATE_SYSTEM: UTM
COORDINATE_ZONE: 13
HORIZONTAL_UNITS: meters
HORIZONTAL_RESOLUTION: 1.00000
SECONDARY_HORIZONTAL_DATUM: NAD27
XY_ORIGIN: 560631.00000 5282246.00000
SECONDARY_XY_ORIGIN: 560669.94100 5282025.74900
NATION: US
STATE: MT
NW_QUAD_CORNER_XY: 560973.77800 5281887.80700
NE_QUAD_CORNER_XY: 565664.03600 5281938.88700
SE_QUAD_CORNERY_XY: 565742.44700 5274992.76400
SW_QUAD_CORNER_XY: 561046.58700 5274941.67400
SECONDARY_NW_QUAD_XY: 560975.68400 5281669.02200
SECONDARY_NE_QUAD_XY: 565666.08900 5281720.10300
SECONDARY_SE_QUAD_XY: 565744.50000 5274773.99900
SECONDARY_SW_QUAD_XY: 561048.49300 5274722.90700
RMSE_XY: 1.32000
IMAGE_SOURCE: BLACK AND WHITE FILM
SOURCE_IMAGE_ID: NAPP 9123-123
SOURCE_IMAGE_DATE: 1997 8 3
SOURCE_DEM_DATE: 2001 1 1
AGENCY: WESTERN MAPPING CENTER (WMC)
PRODUCER: WOOLPERT LLP
PRODUCTION_SYSTEM: INTERGRAPH ISPM, ISIR
COMPRESSION: UNDEFINED
STANDARD_VERSION: 1996 12
METADATA_DATE: 2001 3 9
DATA_FILE_SIZE: 41228787
BYTE_COUNT: 5417
