FILENAME: O4710423.NWS.1134928.tif
QUADRANGLE_NAME: SIDNEY
QUADRANT: NW
WEST_LONGITUDE: -104 15 0.00000
EAST_LONGITUDE: -104 11 15.00000
NORTH_LATITUDE: 47 45 0.00000
SOUTH_LATITUDE: 47 41 15.00000
PRODUCTION_DATE: 2001 3 9
RASTER_ORDER: LEFT_RIGHT/TOP_BOTTOM
BAND_ORGANIZATION: SINGLE FILE
BAND_CONTENT: BLACK&WHITE
BAND_CONTENT: UNDEFINED
BAND_CONTENT: UNDEFINED
BITS_PER_PIXEL: 8
SAMPLES_AND_LINES: 5405 7606
HORIZONTAL_DATUM: NAD83
HORIZONTAL_COORDINATE_SYSTEM: UTM
COORDINATE_ZONE: 13
HORIZONTAL_UNITS: meters
HORIZONTAL_RESOLUTION: 1.00000
SECONDARY_HORIZONTAL_DATUM: NAD27
XY_ORIGIN: 555874.00000 5289141.00000
SECONDARY_XY_ORIGIN: 555912.97700 5288920.69500
NATION: US
STATE: MT
NW_QUAD_CORNER_XY: 556216.23800 5288786.73000
NE_QUAD_CORNER_XY: 560900.89600 5288834.01600
SE_QUAD_CORNERY_XY: 560973.77800 5281887.80700
SW_QUAD_CORNER_XY: 556283.51300 5281840.51200
SECONDARY_NW_QUAD_XY: 556217.99800 5288567.92400
SECONDARY_NE_QUAD_XY: 560902.80200 5288615.21100
SECONDARY_SE_QUAD_XY: 560975.68400 5281669.02200
SECONDARY_SW_QUAD_XY: 556285.27300 5281621.72500
RMSE_XY: 1.74000
IMAGE_SOURCE: BLACK AND WHITE FILM
SOURCE_IMAGE_ID: NAPP 9123-208
SOURCE_IMAGE_DATE: 1997 8 3
SOURCE_IMAGE_ID: NAPP 9123-209
SOURCE_IMAGE_DATE: 1997 8 3
SOURCE_DEM_DATE: 2001 1 1
AGENCY: WESTERN MAPPING CENTER (WMC)
PRODUCER: WOOLPERT LLP
PRODUCTION_SYSTEM: INTERGRAPH ISPM, ISIR
COMPRESSION: UNDEFINED
STANDARD_VERSION: 1996 12
METADATA_DATE: 2001 3 27
DATA_FILE_SIZE: 41115835
BYTE_COUNT: 5405
