FILENAME: O4710425.NES.1163222.tif
QUADRANGLE_NAME: CLAY BUTTE
QUADRANT: NE
WEST_LONGITUDE: -104 56 15.00000
EAST_LONGITUDE: -104 52 30.00000
NORTH_LATITUDE: 47 37 30.00000
SOUTH_LATITUDE: 47 33 45.00000
PRODUCTION_DATE: 2001 9 27
RASTER_ORDER: LEFT_RIGHT/TOP_BOTTOM
BAND_ORGANIZATION: SINGLE FILE
BAND_CONTENT: BLACK&WHITE
BAND_CONTENT: UNDEFINED
BAND_CONTENT: UNDEFINED
BITS_PER_PIXEL: 8
SAMPLES_AND_LINES: 5357 7565
HORIZONTAL_DATUM: NAD83
HORIZONTAL_COORDINATE_SYSTEM: UTM
COORDINATE_ZONE: 13
HORIZONTAL_UNITS: meters
HORIZONTAL_RESOLUTION: 1.00000
SECONDARY_HORIZONTAL_DATUM: NAD27
XY_ORIGIN: 504351.00000 5274937.00000
SECONDARY_XY_ORIGIN: 504390.65600 5274716.57900
NATION: US
STATE: MT
NW_QUAD_CORNER_XY: 504695.90500 5274623.79200
NE_QUAD_CORNER_XY: 509391.81000 5274629.46800
SE_QUAD_CORNERY_XY: 509403.00000 5267683.34800
SW_QUAD_CORNER_XY: 504701.50000 5267677.67100
SECONDARY_NW_QUAD_XY: 504696.05200 5274405.01600
SECONDARY_NE_QUAD_XY: 509392.10400 5274410.69200
SECONDARY_SE_QUAD_XY: 509403.29300 5267464.59200
SECONDARY_SW_QUAD_XY: 504701.64700 5267458.91500
RMSE_XY: 2.30000
IMAGE_SOURCE: BLACK AND WHITE FILM
SOURCE_IMAGE_ID: NAPP 9081-168
SOURCE_IMAGE_DATE: 1996 6 12
SOURCE_IMAGE_ID: NAPP 9124-157
SOURCE_IMAGE_DATE: 1996 8 22
SOURCE_IMAGE_ID: NAPP 9096-096
SOURCE_IMAGE_DATE: 1996 7 9
SOURCE_DEM_DATE: 1999 0 0
AGENCY: WESTERN MAPPING CENTER (WMC)
PRODUCER: WOOLPERT LLP
PRODUCTION_SYSTEM: INTERGRAPH ISPM, ISIR
COMPRESSION: UNDEFINED
STANDARD_VERSION: 1996 12
METADATA_DATE: 2001 10 17
DATA_FILE_SIZE: 40531062
BYTE_COUNT: 5357
