FILENAME: O4710426.NWS.1163235.tif
QUADRANGLE_NAME: ENID SE
QUADRANT: NW
WEST_LONGITUDE: -104 52 30.00000
EAST_LONGITUDE: -104 48 45.00000
NORTH_LATITUDE: 47 37 30.00000
SOUTH_LATITUDE: 47 33 45.00000
PRODUCTION_DATE: 2001 9 27
RASTER_ORDER: LEFT_RIGHT/TOP_BOTTOM
BAND_ORGANIZATION: SINGLE FILE
BAND_CONTENT: BLACK&WHITE
BAND_CONTENT: UNDEFINED
BAND_CONTENT: UNDEFINED
BITS_PER_PIXEL: 8
SAMPLES_AND_LINES: 5363 7568
HORIZONTAL_DATUM: NAD83
HORIZONTAL_COORDINATE_SYSTEM: UTM
COORDINATE_ZONE: 13
HORIZONTAL_UNITS: meters
HORIZONTAL_RESOLUTION: 1.00000
SECONDARY_HORIZONTAL_DATUM: NAD27
XY_ORIGIN: 509047.00000 5274946.00000
SECONDARY_XY_ORIGIN: 509086.60100 5274725.59500
NATION: US
STATE: MT
NW_QUAD_CORNER_XY: 509391.81000 5274629.46800
NE_QUAD_CORNER_XY: 514087.71400 5274638.92900
SE_QUAD_CORNERY_XY: 514104.49900 5267692.81000
SW_QUAD_CORNER_XY: 509403.00000 5267683.34800
SECONDARY_NW_QUAD_XY: 509392.10400 5274410.69200
SECONDARY_NE_QUAD_XY: 514088.15400 5274420.15300
SECONDARY_SE_QUAD_XY: 514104.93800 5267474.05500
SECONDARY_SW_QUAD_XY: 509403.29300 5267464.59200
RMSE_XY: 2.55000
IMAGE_SOURCE: BLACK AND WHITE FILM
SOURCE_IMAGE_ID: NAPP 9081-133
SOURCE_IMAGE_DATE: 1996 6 12
SOURCE_IMAGE_ID: NAPP 9081-132
SOURCE_IMAGE_DATE: 1996 6 12
SOURCE_IMAGE_ID: NAPP 9081-041
SOURCE_IMAGE_DATE: 1996 6 12
SOURCE_DEM_DATE: 1999 0 0
AGENCY: WESTERN MAPPING CENTER (WMC)
PRODUCER: WOOLPERT LLP
PRODUCTION_SYSTEM: INTERGRAPH ISPM, ISIR
COMPRESSION: UNDEFINED
STANDARD_VERSION: 1996 12
METADATA_DATE: 2001 10 17
DATA_FILE_SIZE: 40592547
BYTE_COUNT: 5363
