FILENAME: O4710429.NES.1160646.tif
QUADRANGLE_NAME: LARSON SCHOOL
QUADRANT: NE
WEST_LONGITUDE: -104 26 15.00000
EAST_LONGITUDE: -104 22 30.00000
NORTH_LATITUDE: 47 37 30.00000
SOUTH_LATITUDE: 47 33 45.00000
PRODUCTION_DATE: 2001 9 20
RASTER_ORDER: LEFT_RIGHT/TOP_BOTTOM
BAND_ORGANIZATION: SINGLE FILE
BAND_CONTENT: BLACK&WHITE
BAND_CONTENT: UNDEFINED
BAND_CONTENT: UNDEFINED
BITS_PER_PIXEL: 8
SAMPLES_AND_LINES: 5400 7594
HORIZONTAL_DATUM: NAD83
HORIZONTAL_COORDINATE_SYSTEM: UTM
COORDINATE_ZONE: 13
HORIZONTAL_UNITS: meters
HORIZONTAL_RESOLUTION: 1.00000
SECONDARY_HORIZONTAL_DATUM: NAD27
XY_ORIGIN: 541920.00000 5275118.00000
SECONDARY_XY_ORIGIN: 541959.20300 5274897.72200
NATION: US
STATE: MT
NW_QUAD_CORNER_XY: 542263.08800 5274775.16200
NE_QUAD_CORNER_XY: 546958.97100 5274811.11300
SE_QUAD_CORNERY_XY: 547014.92100 5267865.02800
SW_QUAD_CORNER_XY: 542313.44300 5267829.07000
SECONDARY_NW_QUAD_XY: 542264.40800 5274556.39000
SECONDARY_NE_QUAD_XY: 546960.43700 5274592.34200
SECONDARY_SE_QUAD_XY: 547016.38700 5267646.27800
SECONDARY_SW_QUAD_XY: 542314.76200 5267610.31900
RMSE_XY: 1.84000
IMAGE_SOURCE: BLACK AND WHITE FILM
SOURCE_IMAGE_ID: NAPP 9103-036
SOURCE_IMAGE_DATE: 1996 7 15
SOURCE_DEM_DATE: 1999 0 0
AGENCY: WESTERN MAPPING CENTER (WMC)
PRODUCER: WOOLPERT LLP
PRODUCTION_SYSTEM: INTERGRAPH ISPM, ISIR
COMPRESSION: UNDEFINED
STANDARD_VERSION: 1996 12
METADATA_DATE: 2001 10 3
DATA_FILE_SIZE: 41013000
BYTE_COUNT: 5400
