FILENAME: O4710430.SWS.1160661.tif
QUADRANGLE_NAME: CRANE
QUADRANT: SW
WEST_LONGITUDE: -104 22 30.00000
EAST_LONGITUDE: -104 18 45.00000
NORTH_LATITUDE: 47 33 45.00000
SOUTH_LATITUDE: 47 30 0.00000
PRODUCTION_DATE: 2001 9 20
RASTER_ORDER: LEFT_RIGHT/TOP_BOTTOM
BAND_ORGANIZATION: SINGLE FILE
BAND_CONTENT: BLACK&WHITE
BAND_CONTENT: UNDEFINED
BAND_CONTENT: UNDEFINED
BITS_PER_PIXEL: 8
SAMPLES_AND_LINES: 5411 7598
HORIZONTAL_DATUM: NAD83
HORIZONTAL_COORDINATE_SYSTEM: UTM
COORDINATE_ZONE: 13
HORIZONTAL_UNITS: meters
HORIZONTAL_RESOLUTION: 1.00000
SECONDARY_HORIZONTAL_DATUM: NAD27
XY_ORIGIN: 546672.00000 5268212.00000
SECONDARY_XY_ORIGIN: 546711.15600 5267991.79300
NATION: US
STATE: MT
NW_QUAD_CORNER_XY: 547014.92100 5267865.02800
NE_QUAD_CORNER_XY: 551716.39400 5267904.77200
SE_QUAD_CORNERY_XY: 551777.87600 5260958.77000
SW_QUAD_CORNER_XY: 547070.81400 5260919.01900
SECONDARY_NW_QUAD_XY: 547016.38700 5267646.27800
SECONDARY_NE_QUAD_XY: 551718.00600 5267686.02300
SECONDARY_SE_QUAD_XY: 551779.48900 5260740.04200
SECONDARY_SW_QUAD_XY: 547072.28000 5260700.29000
RMSE_XY: 1.98000
IMAGE_SOURCE: BLACK AND WHITE FILM
SOURCE_IMAGE_ID: NAPP 9095-074
SOURCE_IMAGE_DATE: 1996 7 9
SOURCE_DEM_DATE: 1999 0 0
AGENCY: WESTERN MAPPING CENTER (WMC)
PRODUCER: WOOLPERT LLP
PRODUCTION_SYSTEM: INTERGRAPH ISPM, ISIR
COMPRESSION: UNDEFINED
STANDARD_VERSION: 1996 12
METADATA_DATE: 2001 10 3
DATA_FILE_SIZE: 41118189
BYTE_COUNT: 5411
