FILENAME: O4710431.NES.1160677.tif
QUADRANGLE_NAME: PICHE
QUADRANT: NE
WEST_LONGITUDE: -104 11 15.00000
EAST_LONGITUDE: -104 7 30.00000
NORTH_LATITUDE: 47 37 30.00000
SOUTH_LATITUDE: 47 33 45.00000
PRODUCTION_DATE: 2001 9 20
RASTER_ORDER: LEFT_RIGHT/TOP_BOTTOM
BAND_ORGANIZATION: SINGLE FILE
BAND_CONTENT: BLACK&WHITE
BAND_CONTENT: UNDEFINED
BAND_CONTENT: UNDEFINED
BITS_PER_PIXEL: 8
SAMPLES_AND_LINES: 5422 7610
HORIZONTAL_DATUM: NAD83
HORIZONTAL_COORDINATE_SYSTEM: UTM
COORDINATE_ZONE: 13
HORIZONTAL_UNITS: meters
HORIZONTAL_RESOLUTION: 1.00000
SECONDARY_HORIZONTAL_DATUM: NAD27
XY_ORIGIN: 560704.00000 5275300.00000
SECONDARY_XY_ORIGIN: 560742.95800 5275079.79700
NATION: US
STATE: MT
NW_QUAD_CORNER_XY: 561046.58700 5274941.67400
NE_QUAD_CORNER_XY: 565742.44700 5274992.76400
SE_QUAD_CORNERY_XY: 565820.77900 5268046.71400
SW_QUAD_CORNER_XY: 561119.32300 5267995.61500
SECONDARY_NW_QUAD_XY: 561048.49300 5274722.90700
SECONDARY_NE_QUAD_XY: 565744.50000 5274773.99900
SECONDARY_SE_QUAD_XY: 565822.83100 5267827.97000
SECONDARY_SW_QUAD_XY: 561121.22900 5267776.86900
RMSE_XY: 2.65000
IMAGE_SOURCE: BLACK AND WHITE FILM
SOURCE_IMAGE_ID: NAPP 9123-121
SOURCE_IMAGE_DATE: 1997 8 3
SOURCE_IMAGE_ID: NAPP 9123-120
SOURCE_IMAGE_DATE: 1997 8 3
SOURCE_DEM_DATE: 2001 1 1
AGENCY: WESTERN MAPPING CENTER (WMC)
PRODUCER: WOOLPERT LLP
PRODUCTION_SYSTEM: INTERGRAPH ISPM, ISIR
COMPRESSION: UNDEFINED
STANDARD_VERSION: 1996 12
METADATA_DATE: 2001 10 3
DATA_FILE_SIZE: 41266842
BYTE_COUNT: 5422
