FILENAME: O4710433.SES.1163273.tif
QUADRANGLE_NAME: BLOOMFIELD
QUADRANT: SE
WEST_LONGITUDE: -104 56 15.00000
EAST_LONGITUDE: -104 52 30.00000
NORTH_LATITUDE: 47 26 15.00000
SOUTH_LATITUDE: 47 22 30.00000
PRODUCTION_DATE: 2001 9 27
RASTER_ORDER: LEFT_RIGHT/TOP_BOTTOM
BAND_ORGANIZATION: SINGLE FILE
BAND_CONTENT: BLACK&WHITE
BAND_CONTENT: UNDEFINED
BAND_CONTENT: UNDEFINED
BITS_PER_PIXEL: 8
SAMPLES_AND_LINES: 5374 7564
HORIZONTAL_DATUM: NAD83
HORIZONTAL_COORDINATE_SYSTEM: UTM
COORDINATE_ZONE: 13
HORIZONTAL_UNITS: meters
HORIZONTAL_RESOLUTION: 1.00000
SECONDARY_HORIZONTAL_DATUM: NAD27
XY_ORIGIN: 504368.00000 5254098.00000
SECONDARY_XY_ORIGIN: 504407.79200 5253877.81100
NATION: US
STATE: MT
NW_QUAD_CORNER_XY: 504712.67300 5253785.65700
NE_QUAD_CORNER_XY: 509425.34500 5253791.33600
SE_QUAD_CORNERY_XY: 509436.50100 5246845.44500
SW_QUAD_CORNER_XY: 504718.25100 5246839.76400
SECONDARY_NW_QUAD_XY: 504712.81900 5253566.94400
SECONDARY_NE_QUAD_XY: 509425.63800 5253572.62400
SECONDARY_SE_QUAD_XY: 509436.79400 5246626.75500
SECONDARY_SW_QUAD_XY: 504718.39700 5246621.07400
RMSE_XY: 2.40000
IMAGE_SOURCE: BLACK AND WHITE FILM
SOURCE_IMAGE_ID: NAPP 9081-162
SOURCE_IMAGE_DATE: 1996 6 12
SOURCE_DEM_DATE: 1999 0 0
AGENCY: WESTERN MAPPING CENTER (WMC)
PRODUCER: WOOLPERT LLP
PRODUCTION_SYSTEM: INTERGRAPH ISPM, ISIR
COMPRESSION: UNDEFINED
STANDARD_VERSION: 1996 12
METADATA_DATE: 2001 10 17
DATA_FILE_SIZE: 40654310
BYTE_COUNT: 5374
