FILENAME: O4710434.NES.1160622.tif
QUADRANGLE_NAME: RED TOP
QUADRANT: NE
WEST_LONGITUDE: -104 48 45.00000
EAST_LONGITUDE: -104 45 0.00000
NORTH_LATITUDE: 47 30 0.00000
SOUTH_LATITUDE: 47 26 15.00000
PRODUCTION_DATE: 2001 9 19
RASTER_ORDER: LEFT_RIGHT/TOP_BOTTOM
BAND_ORGANIZATION: SINGLE FILE
BAND_CONTENT: BLACK&WHITE
BAND_CONTENT: UNDEFINED
BAND_CONTENT: UNDEFINED
BITS_PER_PIXEL: 8
SAMPLES_AND_LINES: 5379 7572
HORIZONTAL_DATUM: NAD83
HORIZONTAL_COORDINATE_SYSTEM: UTM
COORDINATE_ZONE: 13
HORIZONTAL_UNITS: meters
HORIZONTAL_RESOLUTION: 1.00000
SECONDARY_HORIZONTAL_DATUM: NAD27
XY_ORIGIN: 513777.00000 5261067.00000
SECONDARY_XY_ORIGIN: 513816.62200 5260846.75500
NATION: US
STATE: MT
NW_QUAD_CORNER_XY: 514121.26600 5260746.76800
NE_QUAD_CORNER_XY: 518828.35200 5260760.01800
SE_QUAD_CORNERY_XY: 518850.68600 5253814.05500
SW_QUAD_CORNER_XY: 514138.01600 5253800.80200
SECONDARY_NW_QUAD_XY: 514121.70600 5260528.03400
SECONDARY_NE_QUAD_XY: 518828.93900 5260541.28500
SECONDARY_SE_QUAD_XY: 518851.27300 5253595.34300
SECONDARY_SW_QUAD_XY: 514138.45600 5253582.09000
RMSE_XY: 2.11000
IMAGE_SOURCE: BLACK AND WHITE FILM
SOURCE_IMAGE_ID: NAPP 9081-036
SOURCE_IMAGE_DATE: 1996 6 12
SOURCE_DEM_DATE: 1999 0 0
AGENCY: WESTERN MAPPING CENTER (WMC)
PRODUCER: WOOLPERT LLP
PRODUCTION_SYSTEM: INTERGRAPH ISPM, ISIR
COMPRESSION: UNDEFINED
STANDARD_VERSION: 1996 12
METADATA_DATE: 2001 10 4
DATA_FILE_SIZE: 40735167
BYTE_COUNT: 5379
