FILENAME: O4710436.NES.1160638.tif
QUADRANGLE_NAME: ALLARD RANCH
QUADRANT: NE
WEST_LONGITUDE: -104 33 45.00000
EAST_LONGITUDE: -104 30 0.00000
NORTH_LATITUDE: 47 30 0.00000
SOUTH_LATITUDE: 47 26 15.00000
PRODUCTION_DATE: 2001 9 19
RASTER_ORDER: LEFT_RIGHT/TOP_BOTTOM
BAND_ORGANIZATION: SINGLE FILE
BAND_CONTENT: BLACK&WHITE
BAND_CONTENT: UNDEFINED
BAND_CONTENT: UNDEFINED
BITS_PER_PIXEL: 8
SAMPLES_AND_LINES: 5401 7587
HORIZONTAL_DATUM: NAD83
HORIZONTAL_COORDINATE_SYSTEM: UTM
COORDINATE_ZONE: 13
HORIZONTAL_UNITS: meters
HORIZONTAL_RESOLUTION: 1.00000
SECONDARY_HORIZONTAL_DATUM: NAD27
XY_ORIGIN: 532606.00000 5261158.00000
SECONDARY_XY_ORIGIN: 532645.37100 5260937.80700
NATION: US
STATE: MT
NW_QUAD_CORNER_XY: 532949.59800 5260822.48200
NE_QUAD_CORNER_XY: 537656.67400 5260850.87500
SE_QUAD_CORNERY_XY: 537701.34300 5253904.92800
SW_QUAD_CORNER_XY: 532988.68300 5253876.53000
SECONDARY_NW_QUAD_XY: 532950.62400 5260603.75000
SECONDARY_NE_QUAD_XY: 537657.84700 5260632.14400
SECONDARY_SE_QUAD_XY: 537702.51500 5253686.21900
SECONDARY_SW_QUAD_XY: 532989.70900 5253657.82000
RMSE_XY: 2.36000
IMAGE_SOURCE: BLACK AND WHITE FILM
SOURCE_IMAGE_ID: NAPP 9108-057
SOURCE_IMAGE_DATE: 1996 8 8
SOURCE_IMAGE_ID: NAPP 9108-058
SOURCE_IMAGE_DATE: 1996 8 8
SOURCE_IMAGE_ID: NAPP 9108-055
SOURCE_IMAGE_DATE: 1996 8 8
SOURCE_DEM_DATE: 1999 0 0
AGENCY: WESTERN MAPPING CENTER (WMC)
PRODUCER: WOOLPERT LLP
PRODUCTION_SYSTEM: INTERGRAPH ISPM, ISIR
COMPRESSION: UNDEFINED
STANDARD_VERSION: 1996 12
METADATA_DATE: 2001 10 3
DATA_FILE_SIZE: 40982788
BYTE_COUNT: 5401
