FILENAME: O4710437.NWS.1160651.tif
QUADRANGLE_NAME: KNIFE RIVER MINE
QUADRANT: NW
WEST_LONGITUDE: -104 30 0.00000
EAST_LONGITUDE: -104 26 15.00000
NORTH_LATITUDE: 47 30 0.00000
SOUTH_LATITUDE: 47 26 15.00000
PRODUCTION_DATE: 2001 9 20
RASTER_ORDER: LEFT_RIGHT/TOP_BOTTOM
BAND_ORGANIZATION: SINGLE FILE
BAND_CONTENT: BLACK&WHITE
BAND_CONTENT: UNDEFINED
BAND_CONTENT: UNDEFINED
BITS_PER_PIXEL: 8
SAMPLES_AND_LINES: 5406 7591
HORIZONTAL_DATUM: NAD83
HORIZONTAL_COORDINATE_SYSTEM: UTM
COORDINATE_ZONE: 13
HORIZONTAL_UNITS: meters
HORIZONTAL_RESOLUTION: 1.00000
SECONDARY_HORIZONTAL_DATUM: NAD27
XY_ORIGIN: 537313.00000 5261190.00000
SECONDARY_XY_ORIGIN: 537352.30800 5260969.82200
NATION: US
STATE: MT
NW_QUAD_CORNER_XY: 537656.67400 5260850.87500
NE_QUAD_CORNER_XY: 542363.74600 5260883.05400
SE_QUAD_CORNERY_XY: 542413.99900 5253937.11300
SW_QUAD_CORNER_XY: 537701.34300 5253904.92800
SECONDARY_NW_QUAD_XY: 537657.84700 5260632.14400
SECONDARY_NE_QUAD_XY: 542365.06500 5260664.32400
SECONDARY_SE_QUAD_XY: 542415.31800 5253718.40500
SECONDARY_SW_QUAD_XY: 537702.51500 5253686.21900
RMSE_XY: 2.08000
IMAGE_SOURCE: BLACK AND WHITE FILM
SOURCE_IMAGE_ID: NAPP 9108-104
SOURCE_IMAGE_DATE: 1996 8 8
SOURCE_DEM_DATE: 1999 0 0
AGENCY: WESTERN MAPPING CENTER (WMC)
PRODUCER: WOOLPERT LLP
PRODUCTION_SYSTEM: INTERGRAPH ISPM, ISIR
COMPRESSION: UNDEFINED
STANDARD_VERSION: 1996 12
METADATA_DATE: 2001 10 3
DATA_FILE_SIZE: 41042352
BYTE_COUNT: 5406
