FILENAME: O4710444.NWS.1160643.tif
QUADRANGLE_NAME: INTAKE
QUADRANT: NW
WEST_LONGITUDE: -104 37 30.00000
EAST_LONGITUDE: -104 33 45.00000
NORTH_LATITUDE: 47 22 30.00000
SOUTH_LATITUDE: 47 18 45.00000
PRODUCTION_DATE: 2001 9 19
RASTER_ORDER: LEFT_RIGHT/TOP_BOTTOM
BAND_ORGANIZATION: SINGLE FILE
BAND_CONTENT: BLACK&WHITE
BAND_CONTENT: UNDEFINED
BAND_CONTENT: UNDEFINED
BITS_PER_PIXEL: 8
SAMPLES_AND_LINES: 5407 7583
HORIZONTAL_DATUM: NAD83
HORIZONTAL_COORDINATE_SYSTEM: UTM
COORDINATE_ZONE: 13
HORIZONTAL_UNITS: meters
HORIZONTAL_RESOLUTION: 1.00000
SECONDARY_HORIZONTAL_DATUM: NAD27
XY_ORIGIN: 527965.00000 5247238.00000
SECONDARY_XY_ORIGIN: 528004.51100 5247017.91700
NATION: US
STATE: MT
NW_QUAD_CORNER_XY: 528309.48700 5246906.03800
NE_QUAD_CORNER_XY: 533027.72800 5246930.65400
SE_QUAD_CORNERY_XY: 533066.73400 5239984.85300
SW_QUAD_CORNER_XY: 528342.92100 5239960.23200
SECONDARY_NW_QUAD_XY: 528310.36700 5246687.35000
SECONDARY_NE_QUAD_XY: 533028.75400 5246711.96700
SECONDARY_SE_QUAD_XY: 533067.76000 5239766.19000
SECONDARY_SW_QUAD_XY: 528343.80000 5239741.56900
RMSE_XY: 2.62000
IMAGE_SOURCE: BLACK AND WHITE FILM
SOURCE_IMAGE_ID: NAPP 9108-050
SOURCE_IMAGE_DATE: 1996 8 8
SOURCE_IMAGE_ID: NAPP 9108-049
SOURCE_IMAGE_DATE: 1996 8 8
SOURCE_DEM_DATE: 1999 0 0
AGENCY: WESTERN MAPPING CENTER (WMC)
PRODUCER: WOOLPERT LLP
PRODUCTION_SYSTEM: INTERGRAPH ISPM, ISIR
COMPRESSION: UNDEFINED
STANDARD_VERSION: 1996 12
METADATA_DATE: 2001 10 3
DATA_FILE_SIZE: 41006688
BYTE_COUNT: 5407
