FILENAME: O4710444.NES.1160642.tif
QUADRANGLE_NAME: INTAKE
QUADRANT: NE
WEST_LONGITUDE: -104 33 45.00000
EAST_LONGITUDE: -104 30 0.00000
NORTH_LATITUDE: 47 22 30.00000
SOUTH_LATITUDE: 47 18 45.00000
PRODUCTION_DATE: 2001 9 19
RASTER_ORDER: LEFT_RIGHT/TOP_BOTTOM
BAND_ORGANIZATION: SINGLE FILE
BAND_CONTENT: BLACK&WHITE
BAND_CONTENT: UNDEFINED
BAND_CONTENT: UNDEFINED
BITS_PER_PIXEL: 8
SAMPLES_AND_LINES: 5412 7587
HORIZONTAL_DATUM: NAD83
HORIZONTAL_COORDINATE_SYSTEM: UTM
COORDINATE_ZONE: 13
HORIZONTAL_UNITS: meters
HORIZONTAL_RESOLUTION: 1.00000
SECONDARY_HORIZONTAL_DATUM: NAD27
XY_ORIGIN: 532684.00000 5247266.00000
SECONDARY_XY_ORIGIN: 532723.44500 5247045.92700
NATION: US
STATE: MT
NW_QUAD_CORNER_XY: 533027.72800 5246930.65400
NE_QUAD_CORNER_XY: 537745.96600 5246959.05700
SE_QUAD_CORNERY_XY: 537790.54400 5240013.26100
SW_QUAD_CORNER_XY: 533066.73400 5239984.85300
SECONDARY_NW_QUAD_XY: 533028.75400 5246711.96700
SECONDARY_NE_QUAD_XY: 537747.13900 5246740.37100
SECONDARY_SE_QUAD_XY: 537791.71700 5239794.59900
SECONDARY_SW_QUAD_XY: 533067.76000 5239766.19000
RMSE_XY: 2.68000
IMAGE_SOURCE: BLACK AND WHITE FILM
SOURCE_IMAGE_ID: NAPP 9108-061
SOURCE_IMAGE_DATE: 1996 8 8
SOURCE_IMAGE_ID: NAPP 9108-101
SOURCE_IMAGE_DATE: 1996 8 8
SOURCE_IMAGE_ID: NAPP 9108-049
SOURCE_IMAGE_DATE: 1996 8 8
SOURCE_IMAGE_ID: NAPP 9108-062
SOURCE_IMAGE_DATE: 1996 8 8
SOURCE_DEM_DATE: 1999 0 0
AGENCY: WESTERN MAPPING CENTER (WMC)
PRODUCER: WOOLPERT LLP
PRODUCTION_SYSTEM: INTERGRAPH ISPM, ISIR
COMPRESSION: UNDEFINED
STANDARD_VERSION: 1996 12
METADATA_DATE: 2001 10 3
DATA_FILE_SIZE: 41066256
BYTE_COUNT: 5412
